BEGIN:VCALENDAR
VERSION:2.0
X-WR-CALNAME:Mathematical Anniversaries
BEGIN:VEVENT
SUMMARY:One day
DESCRIPTION:One day (1 days)
DTSTART:20260422
DTEND:20260423
END:VEVENT

BEGIN:VEVENT
SUMMARY:1st even-perfect-number days
DESCRIPTION:1st even-perfect-number days (6 days) (see http://en.wikipedia.org/wiki/Perfect_number)
DTSTART:20260427
DTEND:20260428
END:VEVENT

BEGIN:VEVENT
SUMMARY:One week
DESCRIPTION:One week (7 days)
DTSTART:20260428
DTEND:20260429
END:VEVENT

BEGIN:VEVENT
SUMMARY:1 Mooch
DESCRIPTION:1 Mooch (11 days) (see https://en.wikipedia.org/wiki/Anthony_Scaramucci)
DTSTART:20260502
DTEND:20260503
END:VEVENT

BEGIN:VEVENT
SUMMARY:1 lunar orbit
DESCRIPTION:1 lunar orbit (27 days)
DTSTART:20260518
DTEND:20260519
END:VEVENT

BEGIN:VEVENT
SUMMARY:2nd even-perfect-number days
DESCRIPTION:2nd even-perfect-number days (28 days) (see http://en.wikipedia.org/wiki/Perfect_number)
DTSTART:20260519
DTEND:20260520
END:VEVENT

BEGIN:VEVENT
SUMMARY:One month
DESCRIPTION:One month (30 days)
DTSTART:20260521
DTEND:20260522
END:VEVENT

BEGIN:VEVENT
SUMMARY:Life-universe-and-everything
DESCRIPTION:Life-universe-and-everything (42 days)
DTSTART:20260602
DTEND:20260603
END:VEVENT

BEGIN:VEVENT
SUMMARY:10th Fibonacci number days
DESCRIPTION:10th Fibonacci number days (55 days)
DTSTART:20260615
DTEND:20260616
END:VEVENT

BEGIN:VEVENT
SUMMARY:Naughty-versary
DESCRIPTION:Naughty-versary (69 days)
DTSTART:20260629
DTEND:20260630
END:VEVENT

BEGIN:VEVENT
SUMMARY:Smallest-weird-number days
DESCRIPTION:Smallest-weird-number days (70 days) (see http://en.wikipedia.org/wiki/Weird_number)
DTSTART:20260630
DTEND:20260701
END:VEVENT

BEGIN:VEVENT
SUMMARY:11th Fibonacci number days
DESCRIPTION:11th Fibonacci number days (89 days)
DTSTART:20260719
DTEND:20260720
END:VEVENT

BEGIN:VEVENT
SUMMARY:100 days
DESCRIPTION:100 days (100 days)
DTSTART:20260730
DTEND:20260731
END:VEVENT

BEGIN:VEVENT
SUMMARY:123 days
DESCRIPTION:123 days (123 days)
DTSTART:20260822
DTEND:20260823
END:VEVENT

BEGIN:VEVENT
SUMMARY:12th Fibonacci number days
DESCRIPTION:12th Fibonacci number days (144 days)
DTSTART:20260912
DTEND:20260913
END:VEVENT

BEGIN:VEVENT
SUMMARY:200 days
DESCRIPTION:200 days (200 days)
DTSTART:20261107
DTEND:20261108
END:VEVENT

BEGIN:VEVENT
SUMMARY:13th Fibonacci number days
DESCRIPTION:13th Fibonacci number days (233 days)
DTSTART:20261210
DTEND:20261211
END:VEVENT

BEGIN:VEVENT
SUMMARY:10 lunar orbits
DESCRIPTION:10 lunar orbits (273 days)
DTSTART:20270119
DTEND:20270120
END:VEVENT

BEGIN:VEVENT
SUMMARY:300 days
DESCRIPTION:300 days (300 days)
DTSTART:20270215
DTEND:20270216
END:VEVENT

BEGIN:VEVENT
SUMMARY:Sparta!
DESCRIPTION:Sparta! (300 days)
DTSTART:20270215
DTEND:20270216
END:VEVENT

BEGIN:VEVENT
SUMMARY:321 days
DESCRIPTION:321 days (321 days)
DTSTART:20270308
DTEND:20270309
END:VEVENT

BEGIN:VEVENT
SUMMARY:1 Earth year
DESCRIPTION:1 Earth year (365 days)
DTSTART:20270421
DTEND:20270422
END:VEVENT

BEGIN:VEVENT
SUMMARY:14th Fibonacci number days
DESCRIPTION:14th Fibonacci number days (377 days)
DTSTART:20270503
DTEND:20270504
END:VEVENT

BEGIN:VEVENT
SUMMARY:400 days
DESCRIPTION:400 days (400 days)
DTSTART:20270526
DTEND:20270527
END:VEVENT

BEGIN:VEVENT
SUMMARY:Anniversary Not Found
DESCRIPTION:Anniversary Not Found (404 days)
DTSTART:20270530
DTEND:20270531
END:VEVENT

BEGIN:VEVENT
SUMMARY:3rd even-perfect-number days
DESCRIPTION:3rd even-perfect-number days (496 days) (see http://en.wikipedia.org/wiki/Perfect_number)
DTSTART:20270830
DTEND:20270831
END:VEVENT

BEGIN:VEVENT
SUMMARY:500 days
DESCRIPTION:500 days (500 days)
DTSTART:20270903
DTEND:20270904
END:VEVENT

BEGIN:VEVENT
SUMMARY:Anniversary Forbidden
DESCRIPTION:Anniversary Forbidden (503 days)
DTSTART:20270906
DTEND:20270907
END:VEVENT

BEGIN:VEVENT
SUMMARY:1 Root-2 years
DESCRIPTION:1 Root-2 years (516 days) (see http://en.wikipedia.org/wiki/Square_root_of_2)
DTSTART:20270919
DTEND:20270920
END:VEVENT

BEGIN:VEVENT
SUMMARY:1 Golden ratio years
DESCRIPTION:1 Golden ratio years (591 days) (see http://en.wikipedia.org/wiki/Golden_ratio)
DTSTART:20271203
DTEND:20271204
END:VEVENT

BEGIN:VEVENT
SUMMARY:600 days
DESCRIPTION:600 days (600 days)
DTSTART:20271212
DTEND:20271213
END:VEVENT

BEGIN:VEVENT
SUMMARY:15th Fibonacci number days
DESCRIPTION:15th Fibonacci number days (610 days)
DTSTART:20271222
DTEND:20271223
END:VEVENT

BEGIN:VEVENT
SUMMARY:1 galactic tick
DESCRIPTION:1 galactic tick (634 days) (see https://en.wikipedia.org/wiki/Galactic_Tick_Day)
DTSTART:20280115
DTEND:20280116
END:VEVENT

BEGIN:VEVENT
SUMMARY:Lucifersary
DESCRIPTION:Lucifersary (666 days)
DTSTART:20280216
DTEND:20280217
END:VEVENT

BEGIN:VEVENT
SUMMARY:1 Mars year
DESCRIPTION:1 Mars year (687 days)
DTSTART:20280308
DTEND:20280309
END:VEVENT

BEGIN:VEVENT
SUMMARY:1,000,000 minutes
DESCRIPTION:1,000,000 minutes (694 days)
DTSTART:20280315
DTEND:20280316
END:VEVENT

BEGIN:VEVENT
SUMMARY:700 days
DESCRIPTION:700 days (700 days)
DTSTART:20280321
DTEND:20280322
END:VEVENT

BEGIN:VEVENT
SUMMARY:2 Earth years
DESCRIPTION:2 Earth years (731 days)
DTSTART:20280421
DTEND:20280422
END:VEVENT

BEGIN:VEVENT
SUMMARY:Feynman-point days
DESCRIPTION:Feynman-point days (762 days) (see http://en.wikipedia.org/wiki/Feynman_point)
DTSTART:20280522
DTEND:20280523
END:VEVENT

BEGIN:VEVENT
SUMMARY:800 days
DESCRIPTION:800 days (800 days)
DTSTART:20280629
DTEND:20280630
END:VEVENT

BEGIN:VEVENT
SUMMARY:123 weeks
DESCRIPTION:123 weeks (861 days)
DTSTART:20280829
DTEND:20280830
END:VEVENT

BEGIN:VEVENT
SUMMARY:10 Mercury years
DESCRIPTION:10 Mercury years (880 days)
DTSTART:20280917
DTEND:20280918
END:VEVENT

BEGIN:VEVENT
SUMMARY:900 days
DESCRIPTION:900 days (900 days)
DTSTART:20281007
DTEND:20281008
END:VEVENT

BEGIN:VEVENT
SUMMARY:16th Fibonacci number days
DESCRIPTION:16th Fibonacci number days (987 days)
DTSTART:20290102
DTEND:20290103
END:VEVENT

BEGIN:VEVENT
SUMMARY:1 e years
DESCRIPTION:1 e years (993 days) (see http://en.wikipedia.org/wiki/E_(mathematical_constant))
DTSTART:20290108
DTEND:20290109
END:VEVENT

BEGIN:VEVENT
SUMMARY:1,000 days
DESCRIPTION:1,000 days (1000 days)
DTSTART:20290115
DTEND:20290116
END:VEVENT

BEGIN:VEVENT
SUMMARY:2 Root-2 years
DESCRIPTION:2 Root-2 years (1033 days) (see http://en.wikipedia.org/wiki/Square_root_of_2)
DTSTART:20290217
DTEND:20290218
END:VEVENT

BEGIN:VEVENT
SUMMARY:3 Earth years
DESCRIPTION:3 Earth years (1096 days)
DTSTART:20290421
DTEND:20290422
END:VEVENT

BEGIN:VEVENT
SUMMARY:100 Mooches
DESCRIPTION:100 Mooches (1100 days) (see https://en.wikipedia.org/wiki/Anthony_Scaramucci)
DTSTART:20290425
DTEND:20290426
END:VEVENT

BEGIN:VEVENT
SUMMARY:1,111 days
DESCRIPTION:1,111 days (1111 days)
DTSTART:20290506
DTEND:20290507
END:VEVENT

BEGIN:VEVENT
SUMMARY:1 Pi years
DESCRIPTION:1 Pi years (1147 days) (see http://en.wikipedia.org/wiki/Pi)
DTSTART:20290611
DTEND:20290612
END:VEVENT

BEGIN:VEVENT
SUMMARY:2 Golden ratio years
DESCRIPTION:2 Golden ratio years (1182 days) (see http://en.wikipedia.org/wiki/Golden_ratio)
DTSTART:20290716
DTEND:20290717
END:VEVENT

BEGIN:VEVENT
SUMMARY:4th look-and-say number days
DESCRIPTION:4th look-and-say number days (1211 days) (see http://en.wikipedia.org/wiki/Look-and-say_sequence)
DTSTART:20290814
DTEND:20290815
END:VEVENT

BEGIN:VEVENT
SUMMARY:1,234 days
DESCRIPTION:1,234 days (1234 days)
DTSTART:20290906
DTEND:20290907
END:VEVENT

BEGIN:VEVENT
SUMMARY:2 galactic ticks
DESCRIPTION:2 galactic ticks (1267 days) (see https://en.wikipedia.org/wiki/Galactic_Tick_Day)
DTSTART:20291009
DTEND:20291010
END:VEVENT

BEGIN:VEVENT
SUMMARY:1337 days
DESCRIPTION:1337 days (1337 days) (see http://en.wikipedia.org/wiki/Leet)
DTSTART:20291218
DTEND:20291219
END:VEVENT

BEGIN:VEVENT
SUMMARY:50 lunar orbits
DESCRIPTION:50 lunar orbits (1365 days)
DTSTART:20300115
DTEND:20300116
END:VEVENT

BEGIN:VEVENT
SUMMARY:2 Mars years
DESCRIPTION:2 Mars years (1374 days)
DTSTART:20300124
DTEND:20300125
END:VEVENT

BEGIN:VEVENT
SUMMARY:2,000,000 minutes
DESCRIPTION:2,000,000 minutes (1389 days)
DTSTART:20300208
DTEND:20300209
END:VEVENT

BEGIN:VEVENT
SUMMARY:4 Earth years
DESCRIPTION:4 Earth years (1461 days)
DTSTART:20300421
DTEND:20300422
END:VEVENT

BEGIN:VEVENT
SUMMARY:3 Root-2 years
DESCRIPTION:3 Root-2 years (1549 days) (see http://en.wikipedia.org/wiki/Square_root_of_2)
DTSTART:20300718
DTEND:20300719
END:VEVENT

BEGIN:VEVENT
SUMMARY:17th Fibonacci number days
DESCRIPTION:17th Fibonacci number days (1597 days)
DTSTART:20300904
DTEND:20300905
END:VEVENT

BEGIN:VEVENT
SUMMARY:Hardy-Ramanujan-number days
DESCRIPTION:Hardy-Ramanujan-number days (1729 days) (see http://en.wikipedia.org/wiki/Srinivasa_Ramanujan)
DTSTART:20310114
DTEND:20310115
END:VEVENT

BEGIN:VEVENT
SUMMARY:20 Mercury years
DESCRIPTION:20 Mercury years (1759 days)
DTSTART:20310213
DTEND:20310214
END:VEVENT

BEGIN:VEVENT
SUMMARY:3 Golden ratio years
DESCRIPTION:3 Golden ratio years (1773 days) (see http://en.wikipedia.org/wiki/Golden_ratio)
DTSTART:20310227
DTEND:20310228
END:VEVENT

BEGIN:VEVENT
SUMMARY:5 Earth years
DESCRIPTION:5 Earth years (1826 days)
DTSTART:20310421
DTEND:20310422
END:VEVENT

BEGIN:VEVENT
SUMMARY:3 galactic ticks
DESCRIPTION:3 galactic ticks (1901 days) (see https://en.wikipedia.org/wiki/Galactic_Tick_Day)
DTSTART:20310705
DTEND:20310706
END:VEVENT

BEGIN:VEVENT
SUMMARY:1 Cobalt 60 half-lives
DESCRIPTION:1 Cobalt 60 half-lives (1925 days) (see http://en.wikipedia.org/wiki/Cobalt-60)
DTSTART:20310729
DTEND:20310730
END:VEVENT

BEGIN:VEVENT
SUMMARY:2 e years
DESCRIPTION:2 e years (1985 days) (see http://en.wikipedia.org/wiki/E_(mathematical_constant))
DTSTART:20310927
DTEND:20310928
END:VEVENT

BEGIN:VEVENT
SUMMARY:300th prime number (1987) days
DESCRIPTION:300th prime number (1987) days (1987 days)
DTSTART:20310929
DTEND:20310930
END:VEVENT

BEGIN:VEVENT
SUMMARY:2,000 days
DESCRIPTION:2,000 days (2000 days)
DTSTART:20311012
DTEND:20311013
END:VEVENT

BEGIN:VEVENT
SUMMARY:3 Mars years
DESCRIPTION:3 Mars years (2061 days)
DTSTART:20311212
DTEND:20311213
END:VEVENT

BEGIN:VEVENT
SUMMARY:4 Root-2 years
DESCRIPTION:4 Root-2 years (2066 days) (see http://en.wikipedia.org/wiki/Square_root_of_2)
DTSTART:20311217
DTEND:20311218
END:VEVENT

BEGIN:VEVENT
SUMMARY:3,000,000 minutes
DESCRIPTION:3,000,000 minutes (2083 days)
DTSTART:20320103
DTEND:20320104
END:VEVENT

BEGIN:VEVENT
SUMMARY:6 Earth years
DESCRIPTION:6 Earth years (2192 days)
DTSTART:20320421
DTEND:20320422
END:VEVENT

BEGIN:VEVENT
SUMMARY:2,222 days
DESCRIPTION:2,222 days (2222 days)
DTSTART:20320521
DTEND:20320522
END:VEVENT

BEGIN:VEVENT
SUMMARY:321 weeks
DESCRIPTION:321 weeks (2247 days)
DTSTART:20320615
DTEND:20320616
END:VEVENT

BEGIN:VEVENT
SUMMARY:10 Venus years
DESCRIPTION:10 Venus years (2247 days)
DTSTART:20320615
DTEND:20320616
END:VEVENT

BEGIN:VEVENT
SUMMARY:2 Pi years
DESCRIPTION:2 Pi years (2295 days) (see http://en.wikipedia.org/wiki/Pi)
DTSTART:20320802
DTEND:20320803
END:VEVENT

BEGIN:VEVENT
SUMMARY:5th Euclid-prime days
DESCRIPTION:5th Euclid-prime days (2311 days) (see http://en.wikipedia.org/wiki/List_of_primes)
DTSTART:20320818
DTEND:20320819
END:VEVENT

BEGIN:VEVENT
SUMMARY:4 Golden ratio years
DESCRIPTION:4 Golden ratio years (2364 days) (see http://en.wikipedia.org/wiki/Golden_ratio)
DTSTART:20321010
DTEND:20321011
END:VEVENT

BEGIN:VEVENT
SUMMARY:4 galactic ticks
DESCRIPTION:4 galactic ticks (2535 days) (see https://en.wikipedia.org/wiki/Galactic_Tick_Day)
DTSTART:20330330
DTEND:20330331
END:VEVENT

BEGIN:VEVENT
SUMMARY:7 Earth years
DESCRIPTION:7 Earth years (2557 days)
DTSTART:20330421
DTEND:20330422
END:VEVENT

BEGIN:VEVENT
SUMMARY:5 Root-2 years
DESCRIPTION:5 Root-2 years (2582 days) (see http://en.wikipedia.org/wiki/Square_root_of_2)
DTSTART:20330516
DTEND:20330517
END:VEVENT

BEGIN:VEVENT
SUMMARY:18th Fibonacci number days
DESCRIPTION:18th Fibonacci number days (2584 days)
DTSTART:20330518
DTEND:20330519
END:VEVENT

BEGIN:VEVENT
SUMMARY:30 Mercury years
DESCRIPTION:30 Mercury years (2639 days)
DTSTART:20330712
DTEND:20330713
END:VEVENT

BEGIN:VEVENT
SUMMARY:100 lunar orbits
DESCRIPTION:100 lunar orbits (2730 days)
DTSTART:20331011
DTEND:20331012
END:VEVENT

BEGIN:VEVENT
SUMMARY:4 Mars years
DESCRIPTION:4 Mars years (2748 days)
DTSTART:20331029
DTEND:20331030
END:VEVENT

BEGIN:VEVENT
SUMMARY:4,000,000 minutes
DESCRIPTION:4,000,000 minutes (2778 days)
DTSTART:20331128
DTEND:20331129
END:VEVENT

BEGIN:VEVENT
SUMMARY:The amount of time it takes a particle of light to cross one octillion hydrogen molecules
DESCRIPTION:The amount of time it takes a particle of light to cross one octillion hydrogen molecules (2859 days) (see https://www.livescience.com/zeptosecond-shortest-time-unit-measured.html)
DTSTART:20340217
DTEND:20340218
END:VEVENT

BEGIN:VEVENT
SUMMARY:8 Earth years
DESCRIPTION:8 Earth years (2922 days)
DTSTART:20340421
DTEND:20340422
END:VEVENT

BEGIN:VEVENT
SUMMARY:5 Golden ratio years
DESCRIPTION:5 Golden ratio years (2955 days) (see http://en.wikipedia.org/wiki/Golden_ratio)
DTSTART:20340524
DTEND:20340525
END:VEVENT

BEGIN:VEVENT
SUMMARY:3 e years
DESCRIPTION:3 e years (2978 days) (see http://en.wikipedia.org/wiki/E_(mathematical_constant))
DTSTART:20340616
DTEND:20340617
END:VEVENT

BEGIN:VEVENT
SUMMARY:3,000 days
DESCRIPTION:3,000 days (3000 days)
DTSTART:20340708
DTEND:20340709
END:VEVENT

BEGIN:VEVENT
SUMMARY:6 Root-2 years
DESCRIPTION:6 Root-2 years (3099 days) (see http://en.wikipedia.org/wiki/Square_root_of_2)
DTSTART:20341015
DTEND:20341016
END:VEVENT

BEGIN:VEVENT
SUMMARY:5 galactic ticks
DESCRIPTION:5 galactic ticks (3169 days) (see https://en.wikipedia.org/wiki/Galactic_Tick_Day)
DTSTART:20341224
DTEND:20341225
END:VEVENT

BEGIN:VEVENT
SUMMARY:500 Pluto days
DESCRIPTION:500 Pluto days (3193 days)
DTSTART:20350117
DTEND:20350118
END:VEVENT

BEGIN:VEVENT
SUMMARY:9 Earth years
DESCRIPTION:9 Earth years (3287 days)
DTSTART:20350421
DTEND:20350422
END:VEVENT

BEGIN:VEVENT
SUMMARY:3,333 days
DESCRIPTION:3,333 days (3333 days)
DTSTART:20350606
DTEND:20350607
END:VEVENT

BEGIN:VEVENT
SUMMARY:5 Mars years
DESCRIPTION:5 Mars years (3435 days)
DTSTART:20350916
DTEND:20350917
END:VEVENT

BEGIN:VEVENT
SUMMARY:3 Pi years
DESCRIPTION:3 Pi years (3442 days) (see http://en.wikipedia.org/wiki/Pi)
DTSTART:20350923
DTEND:20350924
END:VEVENT

BEGIN:VEVENT
SUMMARY:10 Draconic years
DESCRIPTION:10 Draconic years (3466 days) (see http://en.wikipedia.org/wiki/Anomalistic_year)
DTSTART:20351017
DTEND:20351018
END:VEVENT

BEGIN:VEVENT
SUMMARY:5,000,000 minutes
DESCRIPTION:5,000,000 minutes (3472 days)
DTSTART:20351023
DTEND:20351024
END:VEVENT

BEGIN:VEVENT
SUMMARY:40 Mercury years
DESCRIPTION:40 Mercury years (3518 days)
DTSTART:20351208
DTEND:20351209
END:VEVENT

BEGIN:VEVENT
SUMMARY:6 Golden ratio years
DESCRIPTION:6 Golden ratio years (3546 days) (see http://en.wikipedia.org/wiki/Golden_ratio)
DTSTART:20360105
DTEND:20360106
END:VEVENT

BEGIN:VEVENT
SUMMARY:1 reign of Richard the Lionheart
DESCRIPTION:1 reign of Richard the Lionheart (3561 days) (see https://en.wikipedia.org/wiki/Richard_I_of_England)
DTSTART:20360120
DTEND:20360121
END:VEVENT

BEGIN:VEVENT
SUMMARY:7 Root-2 years
DESCRIPTION:7 Root-2 years (3615 days) (see http://en.wikipedia.org/wiki/Square_root_of_2)
DTSTART:20360314
DTEND:20360315
END:VEVENT

BEGIN:VEVENT
SUMMARY:10 Earth years
DESCRIPTION:10 Earth years (3653 days)
DTSTART:20360421
DTEND:20360422
END:VEVENT

BEGIN:VEVENT
SUMMARY:6 galactic ticks
DESCRIPTION:6 galactic ticks (3802 days) (see https://en.wikipedia.org/wiki/Galactic_Tick_Day)
DTSTART:20360917
DTEND:20360918
END:VEVENT

BEGIN:VEVENT
SUMMARY:2 Cobalt 60 half-lives
DESCRIPTION:2 Cobalt 60 half-lives (3850 days) (see http://en.wikipedia.org/wiki/Cobalt-60)
DTSTART:20361104
DTEND:20361105
END:VEVENT

BEGIN:VEVENT
SUMMARY:4 e years
DESCRIPTION:4 e years (3971 days) (see http://en.wikipedia.org/wiki/E_(mathematical_constant))
DTSTART:20370305
DTEND:20370306
END:VEVENT

BEGIN:VEVENT
SUMMARY:4,000 days
DESCRIPTION:4,000 days (4000 days)
DTSTART:20370403
DTEND:20370404
END:VEVENT

BEGIN:VEVENT
SUMMARY:11 Earth years
DESCRIPTION:11 Earth years (4018 days)
DTSTART:20370421
DTEND:20370422
END:VEVENT

BEGIN:VEVENT
SUMMARY:Second-positive-integer-which-can-be-expressed-as-the-sum-of-two-positive-cubes-in-two-different-ways days
DESCRIPTION:Second-positive-integer-which-can-be-expressed-as-the-sum-of-two-positive-cubes-in-two-different-ways days (4104 days)
DTSTART:20370716
DTEND:20370717
END:VEVENT

BEGIN:VEVENT
SUMMARY:10 Full moon cycles
DESCRIPTION:10 Full moon cycles (4118 days) (see http://en.wikipedia.org/wiki/Full_moon_cycle)
DTSTART:20370730
DTEND:20370731
END:VEVENT

BEGIN:VEVENT
SUMMARY:6 Mars years
DESCRIPTION:6 Mars years (4122 days)
DTSTART:20370803
DTEND:20370804
END:VEVENT

BEGIN:VEVENT
SUMMARY:8 Root-2 years
DESCRIPTION:8 Root-2 years (4132 days) (see http://en.wikipedia.org/wiki/Square_root_of_2)
DTSTART:20370813
DTEND:20370814
END:VEVENT

BEGIN:VEVENT
SUMMARY:7 Golden ratio years
DESCRIPTION:7 Golden ratio years (4137 days) (see http://en.wikipedia.org/wiki/Golden_ratio)
DTSTART:20370818
DTEND:20370819
END:VEVENT

BEGIN:VEVENT
SUMMARY:6,000,000 minutes
DESCRIPTION:6,000,000 minutes (4167 days)
DTSTART:20370917
DTEND:20370918
END:VEVENT

BEGIN:VEVENT
SUMMARY:100,000 hours
DESCRIPTION:100,000 hours (4167 days)
DTSTART:20370917
DTEND:20370918
END:VEVENT

BEGIN:VEVENT
SUMMARY:19th Fibonacci number days
DESCRIPTION:19th Fibonacci number days (4181 days)
DTSTART:20371001
DTEND:20371002
END:VEVENT

END:VCALENDAR
