BEGIN:VCALENDAR
VERSION:2.0
X-WR-CALNAME:Mathematical Anniversaries
BEGIN:VEVENT
SUMMARY:One day
DESCRIPTION:One day (1 days)
DTSTART:20260423
DTEND:20260424
END:VEVENT

BEGIN:VEVENT
SUMMARY:1st even-perfect-number days
DESCRIPTION:1st even-perfect-number days (6 days) (see http://en.wikipedia.org/wiki/Perfect_number)
DTSTART:20260428
DTEND:20260429
END:VEVENT

BEGIN:VEVENT
SUMMARY:One week
DESCRIPTION:One week (7 days)
DTSTART:20260429
DTEND:20260430
END:VEVENT

BEGIN:VEVENT
SUMMARY:1 Mooch
DESCRIPTION:1 Mooch (11 days) (see https://en.wikipedia.org/wiki/Anthony_Scaramucci)
DTSTART:20260503
DTEND:20260504
END:VEVENT

BEGIN:VEVENT
SUMMARY:1 lunar orbit
DESCRIPTION:1 lunar orbit (27 days)
DTSTART:20260519
DTEND:20260520
END:VEVENT

BEGIN:VEVENT
SUMMARY:2nd even-perfect-number days
DESCRIPTION:2nd even-perfect-number days (28 days) (see http://en.wikipedia.org/wiki/Perfect_number)
DTSTART:20260520
DTEND:20260521
END:VEVENT

BEGIN:VEVENT
SUMMARY:One month
DESCRIPTION:One month (30 days)
DTSTART:20260522
DTEND:20260523
END:VEVENT

BEGIN:VEVENT
SUMMARY:Life-universe-and-everything
DESCRIPTION:Life-universe-and-everything (42 days)
DTSTART:20260603
DTEND:20260604
END:VEVENT

BEGIN:VEVENT
SUMMARY:10th Fibonacci number days
DESCRIPTION:10th Fibonacci number days (55 days)
DTSTART:20260616
DTEND:20260617
END:VEVENT

BEGIN:VEVENT
SUMMARY:Naughty-versary
DESCRIPTION:Naughty-versary (69 days)
DTSTART:20260630
DTEND:20260701
END:VEVENT

BEGIN:VEVENT
SUMMARY:Smallest-weird-number days
DESCRIPTION:Smallest-weird-number days (70 days) (see http://en.wikipedia.org/wiki/Weird_number)
DTSTART:20260701
DTEND:20260702
END:VEVENT

BEGIN:VEVENT
SUMMARY:11th Fibonacci number days
DESCRIPTION:11th Fibonacci number days (89 days)
DTSTART:20260720
DTEND:20260721
END:VEVENT

BEGIN:VEVENT
SUMMARY:100 days
DESCRIPTION:100 days (100 days)
DTSTART:20260731
DTEND:20260801
END:VEVENT

BEGIN:VEVENT
SUMMARY:123 days
DESCRIPTION:123 days (123 days)
DTSTART:20260823
DTEND:20260824
END:VEVENT

BEGIN:VEVENT
SUMMARY:12th Fibonacci number days
DESCRIPTION:12th Fibonacci number days (144 days)
DTSTART:20260913
DTEND:20260914
END:VEVENT

BEGIN:VEVENT
SUMMARY:200 days
DESCRIPTION:200 days (200 days)
DTSTART:20261108
DTEND:20261109
END:VEVENT

BEGIN:VEVENT
SUMMARY:13th Fibonacci number days
DESCRIPTION:13th Fibonacci number days (233 days)
DTSTART:20261211
DTEND:20261212
END:VEVENT

BEGIN:VEVENT
SUMMARY:10 lunar orbits
DESCRIPTION:10 lunar orbits (273 days)
DTSTART:20270120
DTEND:20270121
END:VEVENT

BEGIN:VEVENT
SUMMARY:300 days
DESCRIPTION:300 days (300 days)
DTSTART:20270216
DTEND:20270217
END:VEVENT

BEGIN:VEVENT
SUMMARY:Sparta!
DESCRIPTION:Sparta! (300 days)
DTSTART:20270216
DTEND:20270217
END:VEVENT

BEGIN:VEVENT
SUMMARY:321 days
DESCRIPTION:321 days (321 days)
DTSTART:20270309
DTEND:20270310
END:VEVENT

BEGIN:VEVENT
SUMMARY:1 Earth year
DESCRIPTION:1 Earth year (365 days)
DTSTART:20270422
DTEND:20270423
END:VEVENT

BEGIN:VEVENT
SUMMARY:14th Fibonacci number days
DESCRIPTION:14th Fibonacci number days (377 days)
DTSTART:20270504
DTEND:20270505
END:VEVENT

BEGIN:VEVENT
SUMMARY:400 days
DESCRIPTION:400 days (400 days)
DTSTART:20270527
DTEND:20270528
END:VEVENT

BEGIN:VEVENT
SUMMARY:Anniversary Not Found
DESCRIPTION:Anniversary Not Found (404 days)
DTSTART:20270531
DTEND:20270601
END:VEVENT

BEGIN:VEVENT
SUMMARY:3rd even-perfect-number days
DESCRIPTION:3rd even-perfect-number days (496 days) (see http://en.wikipedia.org/wiki/Perfect_number)
DTSTART:20270831
DTEND:20270901
END:VEVENT

BEGIN:VEVENT
SUMMARY:500 days
DESCRIPTION:500 days (500 days)
DTSTART:20270904
DTEND:20270905
END:VEVENT

BEGIN:VEVENT
SUMMARY:Anniversary Forbidden
DESCRIPTION:Anniversary Forbidden (503 days)
DTSTART:20270907
DTEND:20270908
END:VEVENT

BEGIN:VEVENT
SUMMARY:1 Root-2 years
DESCRIPTION:1 Root-2 years (516 days) (see http://en.wikipedia.org/wiki/Square_root_of_2)
DTSTART:20270920
DTEND:20270921
END:VEVENT

BEGIN:VEVENT
SUMMARY:1 Golden ratio years
DESCRIPTION:1 Golden ratio years (591 days) (see http://en.wikipedia.org/wiki/Golden_ratio)
DTSTART:20271204
DTEND:20271205
END:VEVENT

BEGIN:VEVENT
SUMMARY:600 days
DESCRIPTION:600 days (600 days)
DTSTART:20271213
DTEND:20271214
END:VEVENT

BEGIN:VEVENT
SUMMARY:15th Fibonacci number days
DESCRIPTION:15th Fibonacci number days (610 days)
DTSTART:20271223
DTEND:20271224
END:VEVENT

BEGIN:VEVENT
SUMMARY:1 galactic tick
DESCRIPTION:1 galactic tick (634 days) (see https://en.wikipedia.org/wiki/Galactic_Tick_Day)
DTSTART:20280116
DTEND:20280117
END:VEVENT

BEGIN:VEVENT
SUMMARY:Lucifersary
DESCRIPTION:Lucifersary (666 days)
DTSTART:20280217
DTEND:20280218
END:VEVENT

BEGIN:VEVENT
SUMMARY:1 Mars year
DESCRIPTION:1 Mars year (687 days)
DTSTART:20280309
DTEND:20280310
END:VEVENT

BEGIN:VEVENT
SUMMARY:1,000,000 minutes
DESCRIPTION:1,000,000 minutes (694 days)
DTSTART:20280316
DTEND:20280317
END:VEVENT

BEGIN:VEVENT
SUMMARY:700 days
DESCRIPTION:700 days (700 days)
DTSTART:20280322
DTEND:20280323
END:VEVENT

BEGIN:VEVENT
SUMMARY:2 Earth years
DESCRIPTION:2 Earth years (731 days)
DTSTART:20280422
DTEND:20280423
END:VEVENT

BEGIN:VEVENT
SUMMARY:Feynman-point days
DESCRIPTION:Feynman-point days (762 days) (see http://en.wikipedia.org/wiki/Feynman_point)
DTSTART:20280523
DTEND:20280524
END:VEVENT

BEGIN:VEVENT
SUMMARY:800 days
DESCRIPTION:800 days (800 days)
DTSTART:20280630
DTEND:20280701
END:VEVENT

BEGIN:VEVENT
SUMMARY:123 weeks
DESCRIPTION:123 weeks (861 days)
DTSTART:20280830
DTEND:20280831
END:VEVENT

BEGIN:VEVENT
SUMMARY:10 Mercury years
DESCRIPTION:10 Mercury years (880 days)
DTSTART:20280918
DTEND:20280919
END:VEVENT

BEGIN:VEVENT
SUMMARY:900 days
DESCRIPTION:900 days (900 days)
DTSTART:20281008
DTEND:20281009
END:VEVENT

BEGIN:VEVENT
SUMMARY:16th Fibonacci number days
DESCRIPTION:16th Fibonacci number days (987 days)
DTSTART:20290103
DTEND:20290104
END:VEVENT

BEGIN:VEVENT
SUMMARY:1 e years
DESCRIPTION:1 e years (993 days) (see http://en.wikipedia.org/wiki/E_(mathematical_constant))
DTSTART:20290109
DTEND:20290110
END:VEVENT

BEGIN:VEVENT
SUMMARY:1,000 days
DESCRIPTION:1,000 days (1000 days)
DTSTART:20290116
DTEND:20290117
END:VEVENT

BEGIN:VEVENT
SUMMARY:2 Root-2 years
DESCRIPTION:2 Root-2 years (1033 days) (see http://en.wikipedia.org/wiki/Square_root_of_2)
DTSTART:20290218
DTEND:20290219
END:VEVENT

BEGIN:VEVENT
SUMMARY:3 Earth years
DESCRIPTION:3 Earth years (1096 days)
DTSTART:20290422
DTEND:20290423
END:VEVENT

BEGIN:VEVENT
SUMMARY:100 Mooches
DESCRIPTION:100 Mooches (1100 days) (see https://en.wikipedia.org/wiki/Anthony_Scaramucci)
DTSTART:20290426
DTEND:20290427
END:VEVENT

BEGIN:VEVENT
SUMMARY:1,111 days
DESCRIPTION:1,111 days (1111 days)
DTSTART:20290507
DTEND:20290508
END:VEVENT

BEGIN:VEVENT
SUMMARY:1 Pi years
DESCRIPTION:1 Pi years (1147 days) (see http://en.wikipedia.org/wiki/Pi)
DTSTART:20290612
DTEND:20290613
END:VEVENT

BEGIN:VEVENT
SUMMARY:2 Golden ratio years
DESCRIPTION:2 Golden ratio years (1182 days) (see http://en.wikipedia.org/wiki/Golden_ratio)
DTSTART:20290717
DTEND:20290718
END:VEVENT

BEGIN:VEVENT
SUMMARY:4th look-and-say number days
DESCRIPTION:4th look-and-say number days (1211 days) (see http://en.wikipedia.org/wiki/Look-and-say_sequence)
DTSTART:20290815
DTEND:20290816
END:VEVENT

BEGIN:VEVENT
SUMMARY:1,234 days
DESCRIPTION:1,234 days (1234 days)
DTSTART:20290907
DTEND:20290908
END:VEVENT

BEGIN:VEVENT
SUMMARY:2 galactic ticks
DESCRIPTION:2 galactic ticks (1267 days) (see https://en.wikipedia.org/wiki/Galactic_Tick_Day)
DTSTART:20291010
DTEND:20291011
END:VEVENT

BEGIN:VEVENT
SUMMARY:1337 days
DESCRIPTION:1337 days (1337 days) (see http://en.wikipedia.org/wiki/Leet)
DTSTART:20291219
DTEND:20291220
END:VEVENT

BEGIN:VEVENT
SUMMARY:50 lunar orbits
DESCRIPTION:50 lunar orbits (1365 days)
DTSTART:20300116
DTEND:20300117
END:VEVENT

BEGIN:VEVENT
SUMMARY:2 Mars years
DESCRIPTION:2 Mars years (1374 days)
DTSTART:20300125
DTEND:20300126
END:VEVENT

BEGIN:VEVENT
SUMMARY:2,000,000 minutes
DESCRIPTION:2,000,000 minutes (1389 days)
DTSTART:20300209
DTEND:20300210
END:VEVENT

BEGIN:VEVENT
SUMMARY:4 Earth years
DESCRIPTION:4 Earth years (1461 days)
DTSTART:20300422
DTEND:20300423
END:VEVENT

BEGIN:VEVENT
SUMMARY:3 Root-2 years
DESCRIPTION:3 Root-2 years (1549 days) (see http://en.wikipedia.org/wiki/Square_root_of_2)
DTSTART:20300719
DTEND:20300720
END:VEVENT

BEGIN:VEVENT
SUMMARY:17th Fibonacci number days
DESCRIPTION:17th Fibonacci number days (1597 days)
DTSTART:20300905
DTEND:20300906
END:VEVENT

BEGIN:VEVENT
SUMMARY:Hardy-Ramanujan-number days
DESCRIPTION:Hardy-Ramanujan-number days (1729 days) (see http://en.wikipedia.org/wiki/Srinivasa_Ramanujan)
DTSTART:20310115
DTEND:20310116
END:VEVENT

BEGIN:VEVENT
SUMMARY:20 Mercury years
DESCRIPTION:20 Mercury years (1759 days)
DTSTART:20310214
DTEND:20310215
END:VEVENT

BEGIN:VEVENT
SUMMARY:3 Golden ratio years
DESCRIPTION:3 Golden ratio years (1773 days) (see http://en.wikipedia.org/wiki/Golden_ratio)
DTSTART:20310228
DTEND:20310301
END:VEVENT

BEGIN:VEVENT
SUMMARY:5 Earth years
DESCRIPTION:5 Earth years (1826 days)
DTSTART:20310422
DTEND:20310423
END:VEVENT

BEGIN:VEVENT
SUMMARY:3 galactic ticks
DESCRIPTION:3 galactic ticks (1901 days) (see https://en.wikipedia.org/wiki/Galactic_Tick_Day)
DTSTART:20310706
DTEND:20310707
END:VEVENT

BEGIN:VEVENT
SUMMARY:1 Cobalt 60 half-lives
DESCRIPTION:1 Cobalt 60 half-lives (1925 days) (see http://en.wikipedia.org/wiki/Cobalt-60)
DTSTART:20310730
DTEND:20310731
END:VEVENT

BEGIN:VEVENT
SUMMARY:2 e years
DESCRIPTION:2 e years (1985 days) (see http://en.wikipedia.org/wiki/E_(mathematical_constant))
DTSTART:20310928
DTEND:20310929
END:VEVENT

BEGIN:VEVENT
SUMMARY:300th prime number (1987) days
DESCRIPTION:300th prime number (1987) days (1987 days)
DTSTART:20310930
DTEND:20311001
END:VEVENT

BEGIN:VEVENT
SUMMARY:2,000 days
DESCRIPTION:2,000 days (2000 days)
DTSTART:20311013
DTEND:20311014
END:VEVENT

BEGIN:VEVENT
SUMMARY:3 Mars years
DESCRIPTION:3 Mars years (2061 days)
DTSTART:20311213
DTEND:20311214
END:VEVENT

BEGIN:VEVENT
SUMMARY:4 Root-2 years
DESCRIPTION:4 Root-2 years (2066 days) (see http://en.wikipedia.org/wiki/Square_root_of_2)
DTSTART:20311218
DTEND:20311219
END:VEVENT

BEGIN:VEVENT
SUMMARY:3,000,000 minutes
DESCRIPTION:3,000,000 minutes (2083 days)
DTSTART:20320104
DTEND:20320105
END:VEVENT

BEGIN:VEVENT
SUMMARY:6 Earth years
DESCRIPTION:6 Earth years (2192 days)
DTSTART:20320422
DTEND:20320423
END:VEVENT

BEGIN:VEVENT
SUMMARY:2,222 days
DESCRIPTION:2,222 days (2222 days)
DTSTART:20320522
DTEND:20320523
END:VEVENT

BEGIN:VEVENT
SUMMARY:321 weeks
DESCRIPTION:321 weeks (2247 days)
DTSTART:20320616
DTEND:20320617
END:VEVENT

BEGIN:VEVENT
SUMMARY:10 Venus years
DESCRIPTION:10 Venus years (2247 days)
DTSTART:20320616
DTEND:20320617
END:VEVENT

BEGIN:VEVENT
SUMMARY:2 Pi years
DESCRIPTION:2 Pi years (2295 days) (see http://en.wikipedia.org/wiki/Pi)
DTSTART:20320803
DTEND:20320804
END:VEVENT

BEGIN:VEVENT
SUMMARY:5th Euclid-prime days
DESCRIPTION:5th Euclid-prime days (2311 days) (see http://en.wikipedia.org/wiki/List_of_primes)
DTSTART:20320819
DTEND:20320820
END:VEVENT

BEGIN:VEVENT
SUMMARY:4 Golden ratio years
DESCRIPTION:4 Golden ratio years (2364 days) (see http://en.wikipedia.org/wiki/Golden_ratio)
DTSTART:20321011
DTEND:20321012
END:VEVENT

BEGIN:VEVENT
SUMMARY:4 galactic ticks
DESCRIPTION:4 galactic ticks (2535 days) (see https://en.wikipedia.org/wiki/Galactic_Tick_Day)
DTSTART:20330331
DTEND:20330401
END:VEVENT

BEGIN:VEVENT
SUMMARY:7 Earth years
DESCRIPTION:7 Earth years (2557 days)
DTSTART:20330422
DTEND:20330423
END:VEVENT

BEGIN:VEVENT
SUMMARY:5 Root-2 years
DESCRIPTION:5 Root-2 years (2582 days) (see http://en.wikipedia.org/wiki/Square_root_of_2)
DTSTART:20330517
DTEND:20330518
END:VEVENT

BEGIN:VEVENT
SUMMARY:18th Fibonacci number days
DESCRIPTION:18th Fibonacci number days (2584 days)
DTSTART:20330519
DTEND:20330520
END:VEVENT

BEGIN:VEVENT
SUMMARY:30 Mercury years
DESCRIPTION:30 Mercury years (2639 days)
DTSTART:20330713
DTEND:20330714
END:VEVENT

BEGIN:VEVENT
SUMMARY:100 lunar orbits
DESCRIPTION:100 lunar orbits (2730 days)
DTSTART:20331012
DTEND:20331013
END:VEVENT

BEGIN:VEVENT
SUMMARY:4 Mars years
DESCRIPTION:4 Mars years (2748 days)
DTSTART:20331030
DTEND:20331031
END:VEVENT

BEGIN:VEVENT
SUMMARY:4,000,000 minutes
DESCRIPTION:4,000,000 minutes (2778 days)
DTSTART:20331129
DTEND:20331130
END:VEVENT

BEGIN:VEVENT
SUMMARY:The amount of time it takes a particle of light to cross one octillion hydrogen molecules
DESCRIPTION:The amount of time it takes a particle of light to cross one octillion hydrogen molecules (2859 days) (see https://www.livescience.com/zeptosecond-shortest-time-unit-measured.html)
DTSTART:20340218
DTEND:20340219
END:VEVENT

BEGIN:VEVENT
SUMMARY:8 Earth years
DESCRIPTION:8 Earth years (2922 days)
DTSTART:20340422
DTEND:20340423
END:VEVENT

BEGIN:VEVENT
SUMMARY:5 Golden ratio years
DESCRIPTION:5 Golden ratio years (2955 days) (see http://en.wikipedia.org/wiki/Golden_ratio)
DTSTART:20340525
DTEND:20340526
END:VEVENT

BEGIN:VEVENT
SUMMARY:3 e years
DESCRIPTION:3 e years (2978 days) (see http://en.wikipedia.org/wiki/E_(mathematical_constant))
DTSTART:20340617
DTEND:20340618
END:VEVENT

BEGIN:VEVENT
SUMMARY:3,000 days
DESCRIPTION:3,000 days (3000 days)
DTSTART:20340709
DTEND:20340710
END:VEVENT

BEGIN:VEVENT
SUMMARY:6 Root-2 years
DESCRIPTION:6 Root-2 years (3099 days) (see http://en.wikipedia.org/wiki/Square_root_of_2)
DTSTART:20341016
DTEND:20341017
END:VEVENT

BEGIN:VEVENT
SUMMARY:5 galactic ticks
DESCRIPTION:5 galactic ticks (3169 days) (see https://en.wikipedia.org/wiki/Galactic_Tick_Day)
DTSTART:20341225
DTEND:20341226
END:VEVENT

BEGIN:VEVENT
SUMMARY:500 Pluto days
DESCRIPTION:500 Pluto days (3193 days)
DTSTART:20350118
DTEND:20350119
END:VEVENT

BEGIN:VEVENT
SUMMARY:9 Earth years
DESCRIPTION:9 Earth years (3287 days)
DTSTART:20350422
DTEND:20350423
END:VEVENT

BEGIN:VEVENT
SUMMARY:3,333 days
DESCRIPTION:3,333 days (3333 days)
DTSTART:20350607
DTEND:20350608
END:VEVENT

BEGIN:VEVENT
SUMMARY:5 Mars years
DESCRIPTION:5 Mars years (3435 days)
DTSTART:20350917
DTEND:20350918
END:VEVENT

BEGIN:VEVENT
SUMMARY:3 Pi years
DESCRIPTION:3 Pi years (3442 days) (see http://en.wikipedia.org/wiki/Pi)
DTSTART:20350924
DTEND:20350925
END:VEVENT

BEGIN:VEVENT
SUMMARY:10 Draconic years
DESCRIPTION:10 Draconic years (3466 days) (see http://en.wikipedia.org/wiki/Anomalistic_year)
DTSTART:20351018
DTEND:20351019
END:VEVENT

BEGIN:VEVENT
SUMMARY:5,000,000 minutes
DESCRIPTION:5,000,000 minutes (3472 days)
DTSTART:20351024
DTEND:20351025
END:VEVENT

BEGIN:VEVENT
SUMMARY:40 Mercury years
DESCRIPTION:40 Mercury years (3518 days)
DTSTART:20351209
DTEND:20351210
END:VEVENT

BEGIN:VEVENT
SUMMARY:6 Golden ratio years
DESCRIPTION:6 Golden ratio years (3546 days) (see http://en.wikipedia.org/wiki/Golden_ratio)
DTSTART:20360106
DTEND:20360107
END:VEVENT

BEGIN:VEVENT
SUMMARY:1 reign of Richard the Lionheart
DESCRIPTION:1 reign of Richard the Lionheart (3561 days) (see https://en.wikipedia.org/wiki/Richard_I_of_England)
DTSTART:20360121
DTEND:20360122
END:VEVENT

BEGIN:VEVENT
SUMMARY:7 Root-2 years
DESCRIPTION:7 Root-2 years (3615 days) (see http://en.wikipedia.org/wiki/Square_root_of_2)
DTSTART:20360315
DTEND:20360316
END:VEVENT

BEGIN:VEVENT
SUMMARY:10 Earth years
DESCRIPTION:10 Earth years (3653 days)
DTSTART:20360422
DTEND:20360423
END:VEVENT

BEGIN:VEVENT
SUMMARY:6 galactic ticks
DESCRIPTION:6 galactic ticks (3802 days) (see https://en.wikipedia.org/wiki/Galactic_Tick_Day)
DTSTART:20360918
DTEND:20360919
END:VEVENT

BEGIN:VEVENT
SUMMARY:2 Cobalt 60 half-lives
DESCRIPTION:2 Cobalt 60 half-lives (3850 days) (see http://en.wikipedia.org/wiki/Cobalt-60)
DTSTART:20361105
DTEND:20361106
END:VEVENT

BEGIN:VEVENT
SUMMARY:4 e years
DESCRIPTION:4 e years (3971 days) (see http://en.wikipedia.org/wiki/E_(mathematical_constant))
DTSTART:20370306
DTEND:20370307
END:VEVENT

BEGIN:VEVENT
SUMMARY:4,000 days
DESCRIPTION:4,000 days (4000 days)
DTSTART:20370404
DTEND:20370405
END:VEVENT

BEGIN:VEVENT
SUMMARY:11 Earth years
DESCRIPTION:11 Earth years (4018 days)
DTSTART:20370422
DTEND:20370423
END:VEVENT

BEGIN:VEVENT
SUMMARY:Second-positive-integer-which-can-be-expressed-as-the-sum-of-two-positive-cubes-in-two-different-ways days
DESCRIPTION:Second-positive-integer-which-can-be-expressed-as-the-sum-of-two-positive-cubes-in-two-different-ways days (4104 days)
DTSTART:20370717
DTEND:20370718
END:VEVENT

BEGIN:VEVENT
SUMMARY:10 Full moon cycles
DESCRIPTION:10 Full moon cycles (4118 days) (see http://en.wikipedia.org/wiki/Full_moon_cycle)
DTSTART:20370731
DTEND:20370801
END:VEVENT

BEGIN:VEVENT
SUMMARY:6 Mars years
DESCRIPTION:6 Mars years (4122 days)
DTSTART:20370804
DTEND:20370805
END:VEVENT

BEGIN:VEVENT
SUMMARY:8 Root-2 years
DESCRIPTION:8 Root-2 years (4132 days) (see http://en.wikipedia.org/wiki/Square_root_of_2)
DTSTART:20370814
DTEND:20370815
END:VEVENT

BEGIN:VEVENT
SUMMARY:7 Golden ratio years
DESCRIPTION:7 Golden ratio years (4137 days) (see http://en.wikipedia.org/wiki/Golden_ratio)
DTSTART:20370819
DTEND:20370820
END:VEVENT

BEGIN:VEVENT
SUMMARY:6,000,000 minutes
DESCRIPTION:6,000,000 minutes (4167 days)
DTSTART:20370918
DTEND:20370919
END:VEVENT

BEGIN:VEVENT
SUMMARY:100,000 hours
DESCRIPTION:100,000 hours (4167 days)
DTSTART:20370918
DTEND:20370919
END:VEVENT

BEGIN:VEVENT
SUMMARY:19th Fibonacci number days
DESCRIPTION:19th Fibonacci number days (4181 days)
DTSTART:20371002
DTEND:20371003
END:VEVENT

END:VCALENDAR
