BEGIN:VCALENDAR
VERSION:2.0
X-WR-CALNAME:Mathematical Anniversaries
BEGIN:VEVENT
SUMMARY:One day
DESCRIPTION:One day (1 days)
DTSTART:20260424
DTEND:20260425
END:VEVENT

BEGIN:VEVENT
SUMMARY:1st even-perfect-number days
DESCRIPTION:1st even-perfect-number days (6 days) (see http://en.wikipedia.org/wiki/Perfect_number)
DTSTART:20260429
DTEND:20260430
END:VEVENT

BEGIN:VEVENT
SUMMARY:One week
DESCRIPTION:One week (7 days)
DTSTART:20260430
DTEND:20260501
END:VEVENT

BEGIN:VEVENT
SUMMARY:1 Mooch
DESCRIPTION:1 Mooch (11 days) (see https://en.wikipedia.org/wiki/Anthony_Scaramucci)
DTSTART:20260504
DTEND:20260505
END:VEVENT

BEGIN:VEVENT
SUMMARY:1 lunar orbit
DESCRIPTION:1 lunar orbit (27 days)
DTSTART:20260520
DTEND:20260521
END:VEVENT

BEGIN:VEVENT
SUMMARY:2nd even-perfect-number days
DESCRIPTION:2nd even-perfect-number days (28 days) (see http://en.wikipedia.org/wiki/Perfect_number)
DTSTART:20260521
DTEND:20260522
END:VEVENT

BEGIN:VEVENT
SUMMARY:One month
DESCRIPTION:One month (30 days)
DTSTART:20260523
DTEND:20260524
END:VEVENT

BEGIN:VEVENT
SUMMARY:Life-universe-and-everything
DESCRIPTION:Life-universe-and-everything (42 days)
DTSTART:20260604
DTEND:20260605
END:VEVENT

BEGIN:VEVENT
SUMMARY:10th Fibonacci number days
DESCRIPTION:10th Fibonacci number days (55 days)
DTSTART:20260617
DTEND:20260618
END:VEVENT

BEGIN:VEVENT
SUMMARY:Naughty-versary
DESCRIPTION:Naughty-versary (69 days)
DTSTART:20260701
DTEND:20260702
END:VEVENT

BEGIN:VEVENT
SUMMARY:Smallest-weird-number days
DESCRIPTION:Smallest-weird-number days (70 days) (see http://en.wikipedia.org/wiki/Weird_number)
DTSTART:20260702
DTEND:20260703
END:VEVENT

BEGIN:VEVENT
SUMMARY:11th Fibonacci number days
DESCRIPTION:11th Fibonacci number days (89 days)
DTSTART:20260721
DTEND:20260722
END:VEVENT

BEGIN:VEVENT
SUMMARY:100 days
DESCRIPTION:100 days (100 days)
DTSTART:20260801
DTEND:20260802
END:VEVENT

BEGIN:VEVENT
SUMMARY:123 days
DESCRIPTION:123 days (123 days)
DTSTART:20260824
DTEND:20260825
END:VEVENT

BEGIN:VEVENT
SUMMARY:12th Fibonacci number days
DESCRIPTION:12th Fibonacci number days (144 days)
DTSTART:20260914
DTEND:20260915
END:VEVENT

BEGIN:VEVENT
SUMMARY:200 days
DESCRIPTION:200 days (200 days)
DTSTART:20261109
DTEND:20261110
END:VEVENT

BEGIN:VEVENT
SUMMARY:13th Fibonacci number days
DESCRIPTION:13th Fibonacci number days (233 days)
DTSTART:20261212
DTEND:20261213
END:VEVENT

BEGIN:VEVENT
SUMMARY:10 lunar orbits
DESCRIPTION:10 lunar orbits (273 days)
DTSTART:20270121
DTEND:20270122
END:VEVENT

BEGIN:VEVENT
SUMMARY:300 days
DESCRIPTION:300 days (300 days)
DTSTART:20270217
DTEND:20270218
END:VEVENT

BEGIN:VEVENT
SUMMARY:Sparta!
DESCRIPTION:Sparta! (300 days)
DTSTART:20270217
DTEND:20270218
END:VEVENT

BEGIN:VEVENT
SUMMARY:321 days
DESCRIPTION:321 days (321 days)
DTSTART:20270310
DTEND:20270311
END:VEVENT

BEGIN:VEVENT
SUMMARY:1 Earth year
DESCRIPTION:1 Earth year (365 days)
DTSTART:20270423
DTEND:20270424
END:VEVENT

BEGIN:VEVENT
SUMMARY:14th Fibonacci number days
DESCRIPTION:14th Fibonacci number days (377 days)
DTSTART:20270505
DTEND:20270506
END:VEVENT

BEGIN:VEVENT
SUMMARY:400 days
DESCRIPTION:400 days (400 days)
DTSTART:20270528
DTEND:20270529
END:VEVENT

BEGIN:VEVENT
SUMMARY:Anniversary Not Found
DESCRIPTION:Anniversary Not Found (404 days)
DTSTART:20270601
DTEND:20270602
END:VEVENT

BEGIN:VEVENT
SUMMARY:3rd even-perfect-number days
DESCRIPTION:3rd even-perfect-number days (496 days) (see http://en.wikipedia.org/wiki/Perfect_number)
DTSTART:20270901
DTEND:20270902
END:VEVENT

BEGIN:VEVENT
SUMMARY:500 days
DESCRIPTION:500 days (500 days)
DTSTART:20270905
DTEND:20270906
END:VEVENT

BEGIN:VEVENT
SUMMARY:Anniversary Forbidden
DESCRIPTION:Anniversary Forbidden (503 days)
DTSTART:20270908
DTEND:20270909
END:VEVENT

BEGIN:VEVENT
SUMMARY:1 Root-2 years
DESCRIPTION:1 Root-2 years (516 days) (see http://en.wikipedia.org/wiki/Square_root_of_2)
DTSTART:20270921
DTEND:20270922
END:VEVENT

BEGIN:VEVENT
SUMMARY:1 Golden ratio years
DESCRIPTION:1 Golden ratio years (591 days) (see http://en.wikipedia.org/wiki/Golden_ratio)
DTSTART:20271205
DTEND:20271206
END:VEVENT

BEGIN:VEVENT
SUMMARY:600 days
DESCRIPTION:600 days (600 days)
DTSTART:20271214
DTEND:20271215
END:VEVENT

BEGIN:VEVENT
SUMMARY:15th Fibonacci number days
DESCRIPTION:15th Fibonacci number days (610 days)
DTSTART:20271224
DTEND:20271225
END:VEVENT

BEGIN:VEVENT
SUMMARY:1 galactic tick
DESCRIPTION:1 galactic tick (634 days) (see https://en.wikipedia.org/wiki/Galactic_Tick_Day)
DTSTART:20280117
DTEND:20280118
END:VEVENT

BEGIN:VEVENT
SUMMARY:Lucifersary
DESCRIPTION:Lucifersary (666 days)
DTSTART:20280218
DTEND:20280219
END:VEVENT

BEGIN:VEVENT
SUMMARY:1 Mars year
DESCRIPTION:1 Mars year (687 days)
DTSTART:20280310
DTEND:20280311
END:VEVENT

BEGIN:VEVENT
SUMMARY:1,000,000 minutes
DESCRIPTION:1,000,000 minutes (694 days)
DTSTART:20280317
DTEND:20280318
END:VEVENT

BEGIN:VEVENT
SUMMARY:700 days
DESCRIPTION:700 days (700 days)
DTSTART:20280323
DTEND:20280324
END:VEVENT

BEGIN:VEVENT
SUMMARY:2 Earth years
DESCRIPTION:2 Earth years (731 days)
DTSTART:20280423
DTEND:20280424
END:VEVENT

BEGIN:VEVENT
SUMMARY:Feynman-point days
DESCRIPTION:Feynman-point days (762 days) (see http://en.wikipedia.org/wiki/Feynman_point)
DTSTART:20280524
DTEND:20280525
END:VEVENT

BEGIN:VEVENT
SUMMARY:800 days
DESCRIPTION:800 days (800 days)
DTSTART:20280701
DTEND:20280702
END:VEVENT

BEGIN:VEVENT
SUMMARY:123 weeks
DESCRIPTION:123 weeks (861 days)
DTSTART:20280831
DTEND:20280901
END:VEVENT

BEGIN:VEVENT
SUMMARY:10 Mercury years
DESCRIPTION:10 Mercury years (880 days)
DTSTART:20280919
DTEND:20280920
END:VEVENT

BEGIN:VEVENT
SUMMARY:900 days
DESCRIPTION:900 days (900 days)
DTSTART:20281009
DTEND:20281010
END:VEVENT

BEGIN:VEVENT
SUMMARY:16th Fibonacci number days
DESCRIPTION:16th Fibonacci number days (987 days)
DTSTART:20290104
DTEND:20290105
END:VEVENT

BEGIN:VEVENT
SUMMARY:1 e years
DESCRIPTION:1 e years (993 days) (see http://en.wikipedia.org/wiki/E_(mathematical_constant))
DTSTART:20290110
DTEND:20290111
END:VEVENT

BEGIN:VEVENT
SUMMARY:1,000 days
DESCRIPTION:1,000 days (1000 days)
DTSTART:20290117
DTEND:20290118
END:VEVENT

BEGIN:VEVENT
SUMMARY:2 Root-2 years
DESCRIPTION:2 Root-2 years (1033 days) (see http://en.wikipedia.org/wiki/Square_root_of_2)
DTSTART:20290219
DTEND:20290220
END:VEVENT

BEGIN:VEVENT
SUMMARY:3 Earth years
DESCRIPTION:3 Earth years (1096 days)
DTSTART:20290423
DTEND:20290424
END:VEVENT

BEGIN:VEVENT
SUMMARY:100 Mooches
DESCRIPTION:100 Mooches (1100 days) (see https://en.wikipedia.org/wiki/Anthony_Scaramucci)
DTSTART:20290427
DTEND:20290428
END:VEVENT

BEGIN:VEVENT
SUMMARY:1,111 days
DESCRIPTION:1,111 days (1111 days)
DTSTART:20290508
DTEND:20290509
END:VEVENT

BEGIN:VEVENT
SUMMARY:1 Pi years
DESCRIPTION:1 Pi years (1147 days) (see http://en.wikipedia.org/wiki/Pi)
DTSTART:20290613
DTEND:20290614
END:VEVENT

BEGIN:VEVENT
SUMMARY:2 Golden ratio years
DESCRIPTION:2 Golden ratio years (1182 days) (see http://en.wikipedia.org/wiki/Golden_ratio)
DTSTART:20290718
DTEND:20290719
END:VEVENT

BEGIN:VEVENT
SUMMARY:4th look-and-say number days
DESCRIPTION:4th look-and-say number days (1211 days) (see http://en.wikipedia.org/wiki/Look-and-say_sequence)
DTSTART:20290816
DTEND:20290817
END:VEVENT

BEGIN:VEVENT
SUMMARY:1,234 days
DESCRIPTION:1,234 days (1234 days)
DTSTART:20290908
DTEND:20290909
END:VEVENT

BEGIN:VEVENT
SUMMARY:2 galactic ticks
DESCRIPTION:2 galactic ticks (1267 days) (see https://en.wikipedia.org/wiki/Galactic_Tick_Day)
DTSTART:20291011
DTEND:20291012
END:VEVENT

BEGIN:VEVENT
SUMMARY:1337 days
DESCRIPTION:1337 days (1337 days) (see http://en.wikipedia.org/wiki/Leet)
DTSTART:20291220
DTEND:20291221
END:VEVENT

BEGIN:VEVENT
SUMMARY:50 lunar orbits
DESCRIPTION:50 lunar orbits (1365 days)
DTSTART:20300117
DTEND:20300118
END:VEVENT

BEGIN:VEVENT
SUMMARY:2 Mars years
DESCRIPTION:2 Mars years (1374 days)
DTSTART:20300126
DTEND:20300127
END:VEVENT

BEGIN:VEVENT
SUMMARY:2,000,000 minutes
DESCRIPTION:2,000,000 minutes (1389 days)
DTSTART:20300210
DTEND:20300211
END:VEVENT

BEGIN:VEVENT
SUMMARY:4 Earth years
DESCRIPTION:4 Earth years (1461 days)
DTSTART:20300423
DTEND:20300424
END:VEVENT

BEGIN:VEVENT
SUMMARY:3 Root-2 years
DESCRIPTION:3 Root-2 years (1549 days) (see http://en.wikipedia.org/wiki/Square_root_of_2)
DTSTART:20300720
DTEND:20300721
END:VEVENT

BEGIN:VEVENT
SUMMARY:17th Fibonacci number days
DESCRIPTION:17th Fibonacci number days (1597 days)
DTSTART:20300906
DTEND:20300907
END:VEVENT

BEGIN:VEVENT
SUMMARY:Hardy-Ramanujan-number days
DESCRIPTION:Hardy-Ramanujan-number days (1729 days) (see http://en.wikipedia.org/wiki/Srinivasa_Ramanujan)
DTSTART:20310116
DTEND:20310117
END:VEVENT

BEGIN:VEVENT
SUMMARY:20 Mercury years
DESCRIPTION:20 Mercury years (1759 days)
DTSTART:20310215
DTEND:20310216
END:VEVENT

BEGIN:VEVENT
SUMMARY:3 Golden ratio years
DESCRIPTION:3 Golden ratio years (1773 days) (see http://en.wikipedia.org/wiki/Golden_ratio)
DTSTART:20310301
DTEND:20310302
END:VEVENT

BEGIN:VEVENT
SUMMARY:5 Earth years
DESCRIPTION:5 Earth years (1826 days)
DTSTART:20310423
DTEND:20310424
END:VEVENT

BEGIN:VEVENT
SUMMARY:3 galactic ticks
DESCRIPTION:3 galactic ticks (1901 days) (see https://en.wikipedia.org/wiki/Galactic_Tick_Day)
DTSTART:20310707
DTEND:20310708
END:VEVENT

BEGIN:VEVENT
SUMMARY:1 Cobalt 60 half-lives
DESCRIPTION:1 Cobalt 60 half-lives (1925 days) (see http://en.wikipedia.org/wiki/Cobalt-60)
DTSTART:20310731
DTEND:20310801
END:VEVENT

BEGIN:VEVENT
SUMMARY:2 e years
DESCRIPTION:2 e years (1985 days) (see http://en.wikipedia.org/wiki/E_(mathematical_constant))
DTSTART:20310929
DTEND:20310930
END:VEVENT

BEGIN:VEVENT
SUMMARY:300th prime number (1987) days
DESCRIPTION:300th prime number (1987) days (1987 days)
DTSTART:20311001
DTEND:20311002
END:VEVENT

BEGIN:VEVENT
SUMMARY:2,000 days
DESCRIPTION:2,000 days (2000 days)
DTSTART:20311014
DTEND:20311015
END:VEVENT

BEGIN:VEVENT
SUMMARY:3 Mars years
DESCRIPTION:3 Mars years (2061 days)
DTSTART:20311214
DTEND:20311215
END:VEVENT

BEGIN:VEVENT
SUMMARY:4 Root-2 years
DESCRIPTION:4 Root-2 years (2066 days) (see http://en.wikipedia.org/wiki/Square_root_of_2)
DTSTART:20311219
DTEND:20311220
END:VEVENT

BEGIN:VEVENT
SUMMARY:3,000,000 minutes
DESCRIPTION:3,000,000 minutes (2083 days)
DTSTART:20320105
DTEND:20320106
END:VEVENT

BEGIN:VEVENT
SUMMARY:6 Earth years
DESCRIPTION:6 Earth years (2192 days)
DTSTART:20320423
DTEND:20320424
END:VEVENT

BEGIN:VEVENT
SUMMARY:2,222 days
DESCRIPTION:2,222 days (2222 days)
DTSTART:20320523
DTEND:20320524
END:VEVENT

BEGIN:VEVENT
SUMMARY:321 weeks
DESCRIPTION:321 weeks (2247 days)
DTSTART:20320617
DTEND:20320618
END:VEVENT

BEGIN:VEVENT
SUMMARY:10 Venus years
DESCRIPTION:10 Venus years (2247 days)
DTSTART:20320617
DTEND:20320618
END:VEVENT

BEGIN:VEVENT
SUMMARY:2 Pi years
DESCRIPTION:2 Pi years (2295 days) (see http://en.wikipedia.org/wiki/Pi)
DTSTART:20320804
DTEND:20320805
END:VEVENT

BEGIN:VEVENT
SUMMARY:5th Euclid-prime days
DESCRIPTION:5th Euclid-prime days (2311 days) (see http://en.wikipedia.org/wiki/List_of_primes)
DTSTART:20320820
DTEND:20320821
END:VEVENT

BEGIN:VEVENT
SUMMARY:4 Golden ratio years
DESCRIPTION:4 Golden ratio years (2364 days) (see http://en.wikipedia.org/wiki/Golden_ratio)
DTSTART:20321012
DTEND:20321013
END:VEVENT

BEGIN:VEVENT
SUMMARY:4 galactic ticks
DESCRIPTION:4 galactic ticks (2535 days) (see https://en.wikipedia.org/wiki/Galactic_Tick_Day)
DTSTART:20330401
DTEND:20330402
END:VEVENT

BEGIN:VEVENT
SUMMARY:7 Earth years
DESCRIPTION:7 Earth years (2557 days)
DTSTART:20330423
DTEND:20330424
END:VEVENT

BEGIN:VEVENT
SUMMARY:5 Root-2 years
DESCRIPTION:5 Root-2 years (2582 days) (see http://en.wikipedia.org/wiki/Square_root_of_2)
DTSTART:20330518
DTEND:20330519
END:VEVENT

BEGIN:VEVENT
SUMMARY:18th Fibonacci number days
DESCRIPTION:18th Fibonacci number days (2584 days)
DTSTART:20330520
DTEND:20330521
END:VEVENT

BEGIN:VEVENT
SUMMARY:30 Mercury years
DESCRIPTION:30 Mercury years (2639 days)
DTSTART:20330714
DTEND:20330715
END:VEVENT

BEGIN:VEVENT
SUMMARY:100 lunar orbits
DESCRIPTION:100 lunar orbits (2730 days)
DTSTART:20331013
DTEND:20331014
END:VEVENT

BEGIN:VEVENT
SUMMARY:4 Mars years
DESCRIPTION:4 Mars years (2748 days)
DTSTART:20331031
DTEND:20331101
END:VEVENT

BEGIN:VEVENT
SUMMARY:4,000,000 minutes
DESCRIPTION:4,000,000 minutes (2778 days)
DTSTART:20331130
DTEND:20331201
END:VEVENT

BEGIN:VEVENT
SUMMARY:The amount of time it takes a particle of light to cross one octillion hydrogen molecules
DESCRIPTION:The amount of time it takes a particle of light to cross one octillion hydrogen molecules (2859 days) (see https://www.livescience.com/zeptosecond-shortest-time-unit-measured.html)
DTSTART:20340219
DTEND:20340220
END:VEVENT

BEGIN:VEVENT
SUMMARY:8 Earth years
DESCRIPTION:8 Earth years (2922 days)
DTSTART:20340423
DTEND:20340424
END:VEVENT

BEGIN:VEVENT
SUMMARY:5 Golden ratio years
DESCRIPTION:5 Golden ratio years (2955 days) (see http://en.wikipedia.org/wiki/Golden_ratio)
DTSTART:20340526
DTEND:20340527
END:VEVENT

BEGIN:VEVENT
SUMMARY:3 e years
DESCRIPTION:3 e years (2978 days) (see http://en.wikipedia.org/wiki/E_(mathematical_constant))
DTSTART:20340618
DTEND:20340619
END:VEVENT

BEGIN:VEVENT
SUMMARY:3,000 days
DESCRIPTION:3,000 days (3000 days)
DTSTART:20340710
DTEND:20340711
END:VEVENT

BEGIN:VEVENT
SUMMARY:6 Root-2 years
DESCRIPTION:6 Root-2 years (3099 days) (see http://en.wikipedia.org/wiki/Square_root_of_2)
DTSTART:20341017
DTEND:20341018
END:VEVENT

BEGIN:VEVENT
SUMMARY:5 galactic ticks
DESCRIPTION:5 galactic ticks (3169 days) (see https://en.wikipedia.org/wiki/Galactic_Tick_Day)
DTSTART:20341226
DTEND:20341227
END:VEVENT

BEGIN:VEVENT
SUMMARY:500 Pluto days
DESCRIPTION:500 Pluto days (3193 days)
DTSTART:20350119
DTEND:20350120
END:VEVENT

BEGIN:VEVENT
SUMMARY:9 Earth years
DESCRIPTION:9 Earth years (3287 days)
DTSTART:20350423
DTEND:20350424
END:VEVENT

BEGIN:VEVENT
SUMMARY:3,333 days
DESCRIPTION:3,333 days (3333 days)
DTSTART:20350608
DTEND:20350609
END:VEVENT

BEGIN:VEVENT
SUMMARY:5 Mars years
DESCRIPTION:5 Mars years (3435 days)
DTSTART:20350918
DTEND:20350919
END:VEVENT

BEGIN:VEVENT
SUMMARY:3 Pi years
DESCRIPTION:3 Pi years (3442 days) (see http://en.wikipedia.org/wiki/Pi)
DTSTART:20350925
DTEND:20350926
END:VEVENT

BEGIN:VEVENT
SUMMARY:10 Draconic years
DESCRIPTION:10 Draconic years (3466 days) (see http://en.wikipedia.org/wiki/Anomalistic_year)
DTSTART:20351019
DTEND:20351020
END:VEVENT

BEGIN:VEVENT
SUMMARY:5,000,000 minutes
DESCRIPTION:5,000,000 minutes (3472 days)
DTSTART:20351025
DTEND:20351026
END:VEVENT

BEGIN:VEVENT
SUMMARY:40 Mercury years
DESCRIPTION:40 Mercury years (3518 days)
DTSTART:20351210
DTEND:20351211
END:VEVENT

BEGIN:VEVENT
SUMMARY:6 Golden ratio years
DESCRIPTION:6 Golden ratio years (3546 days) (see http://en.wikipedia.org/wiki/Golden_ratio)
DTSTART:20360107
DTEND:20360108
END:VEVENT

BEGIN:VEVENT
SUMMARY:1 reign of Richard the Lionheart
DESCRIPTION:1 reign of Richard the Lionheart (3561 days) (see https://en.wikipedia.org/wiki/Richard_I_of_England)
DTSTART:20360122
DTEND:20360123
END:VEVENT

BEGIN:VEVENT
SUMMARY:7 Root-2 years
DESCRIPTION:7 Root-2 years (3615 days) (see http://en.wikipedia.org/wiki/Square_root_of_2)
DTSTART:20360316
DTEND:20360317
END:VEVENT

BEGIN:VEVENT
SUMMARY:10 Earth years
DESCRIPTION:10 Earth years (3653 days)
DTSTART:20360423
DTEND:20360424
END:VEVENT

BEGIN:VEVENT
SUMMARY:6 galactic ticks
DESCRIPTION:6 galactic ticks (3802 days) (see https://en.wikipedia.org/wiki/Galactic_Tick_Day)
DTSTART:20360919
DTEND:20360920
END:VEVENT

BEGIN:VEVENT
SUMMARY:2 Cobalt 60 half-lives
DESCRIPTION:2 Cobalt 60 half-lives (3850 days) (see http://en.wikipedia.org/wiki/Cobalt-60)
DTSTART:20361106
DTEND:20361107
END:VEVENT

BEGIN:VEVENT
SUMMARY:4 e years
DESCRIPTION:4 e years (3971 days) (see http://en.wikipedia.org/wiki/E_(mathematical_constant))
DTSTART:20370307
DTEND:20370308
END:VEVENT

BEGIN:VEVENT
SUMMARY:4,000 days
DESCRIPTION:4,000 days (4000 days)
DTSTART:20370405
DTEND:20370406
END:VEVENT

BEGIN:VEVENT
SUMMARY:11 Earth years
DESCRIPTION:11 Earth years (4018 days)
DTSTART:20370423
DTEND:20370424
END:VEVENT

BEGIN:VEVENT
SUMMARY:Second-positive-integer-which-can-be-expressed-as-the-sum-of-two-positive-cubes-in-two-different-ways days
DESCRIPTION:Second-positive-integer-which-can-be-expressed-as-the-sum-of-two-positive-cubes-in-two-different-ways days (4104 days)
DTSTART:20370718
DTEND:20370719
END:VEVENT

BEGIN:VEVENT
SUMMARY:10 Full moon cycles
DESCRIPTION:10 Full moon cycles (4118 days) (see http://en.wikipedia.org/wiki/Full_moon_cycle)
DTSTART:20370801
DTEND:20370802
END:VEVENT

BEGIN:VEVENT
SUMMARY:6 Mars years
DESCRIPTION:6 Mars years (4122 days)
DTSTART:20370805
DTEND:20370806
END:VEVENT

BEGIN:VEVENT
SUMMARY:8 Root-2 years
DESCRIPTION:8 Root-2 years (4132 days) (see http://en.wikipedia.org/wiki/Square_root_of_2)
DTSTART:20370815
DTEND:20370816
END:VEVENT

BEGIN:VEVENT
SUMMARY:7 Golden ratio years
DESCRIPTION:7 Golden ratio years (4137 days) (see http://en.wikipedia.org/wiki/Golden_ratio)
DTSTART:20370820
DTEND:20370821
END:VEVENT

BEGIN:VEVENT
SUMMARY:6,000,000 minutes
DESCRIPTION:6,000,000 minutes (4167 days)
DTSTART:20370919
DTEND:20370920
END:VEVENT

BEGIN:VEVENT
SUMMARY:100,000 hours
DESCRIPTION:100,000 hours (4167 days)
DTSTART:20370919
DTEND:20370920
END:VEVENT

BEGIN:VEVENT
SUMMARY:19th Fibonacci number days
DESCRIPTION:19th Fibonacci number days (4181 days)
DTSTART:20371003
DTEND:20371004
END:VEVENT

END:VCALENDAR
