BEGIN:VCALENDAR
VERSION:2.0
X-WR-CALNAME:Mathematical Anniversaries
BEGIN:VEVENT
SUMMARY:One day
DESCRIPTION:One day (1 days)
DTSTART:20260426
DTEND:20260427
END:VEVENT

BEGIN:VEVENT
SUMMARY:1st even-perfect-number days
DESCRIPTION:1st even-perfect-number days (6 days) (see http://en.wikipedia.org/wiki/Perfect_number)
DTSTART:20260501
DTEND:20260502
END:VEVENT

BEGIN:VEVENT
SUMMARY:One week
DESCRIPTION:One week (7 days)
DTSTART:20260502
DTEND:20260503
END:VEVENT

BEGIN:VEVENT
SUMMARY:1 Mooch
DESCRIPTION:1 Mooch (11 days) (see https://en.wikipedia.org/wiki/Anthony_Scaramucci)
DTSTART:20260506
DTEND:20260507
END:VEVENT

BEGIN:VEVENT
SUMMARY:1 lunar orbit
DESCRIPTION:1 lunar orbit (27 days)
DTSTART:20260522
DTEND:20260523
END:VEVENT

BEGIN:VEVENT
SUMMARY:2nd even-perfect-number days
DESCRIPTION:2nd even-perfect-number days (28 days) (see http://en.wikipedia.org/wiki/Perfect_number)
DTSTART:20260523
DTEND:20260524
END:VEVENT

BEGIN:VEVENT
SUMMARY:One month
DESCRIPTION:One month (30 days)
DTSTART:20260525
DTEND:20260526
END:VEVENT

BEGIN:VEVENT
SUMMARY:Life-universe-and-everything
DESCRIPTION:Life-universe-and-everything (42 days)
DTSTART:20260606
DTEND:20260607
END:VEVENT

BEGIN:VEVENT
SUMMARY:10th Fibonacci number days
DESCRIPTION:10th Fibonacci number days (55 days)
DTSTART:20260619
DTEND:20260620
END:VEVENT

BEGIN:VEVENT
SUMMARY:Naughty-versary
DESCRIPTION:Naughty-versary (69 days)
DTSTART:20260703
DTEND:20260704
END:VEVENT

BEGIN:VEVENT
SUMMARY:Smallest-weird-number days
DESCRIPTION:Smallest-weird-number days (70 days) (see http://en.wikipedia.org/wiki/Weird_number)
DTSTART:20260704
DTEND:20260705
END:VEVENT

BEGIN:VEVENT
SUMMARY:11th Fibonacci number days
DESCRIPTION:11th Fibonacci number days (89 days)
DTSTART:20260723
DTEND:20260724
END:VEVENT

BEGIN:VEVENT
SUMMARY:100 days
DESCRIPTION:100 days (100 days)
DTSTART:20260803
DTEND:20260804
END:VEVENT

BEGIN:VEVENT
SUMMARY:123 days
DESCRIPTION:123 days (123 days)
DTSTART:20260826
DTEND:20260827
END:VEVENT

BEGIN:VEVENT
SUMMARY:12th Fibonacci number days
DESCRIPTION:12th Fibonacci number days (144 days)
DTSTART:20260916
DTEND:20260917
END:VEVENT

BEGIN:VEVENT
SUMMARY:200 days
DESCRIPTION:200 days (200 days)
DTSTART:20261111
DTEND:20261112
END:VEVENT

BEGIN:VEVENT
SUMMARY:13th Fibonacci number days
DESCRIPTION:13th Fibonacci number days (233 days)
DTSTART:20261214
DTEND:20261215
END:VEVENT

BEGIN:VEVENT
SUMMARY:10 lunar orbits
DESCRIPTION:10 lunar orbits (273 days)
DTSTART:20270123
DTEND:20270124
END:VEVENT

BEGIN:VEVENT
SUMMARY:300 days
DESCRIPTION:300 days (300 days)
DTSTART:20270219
DTEND:20270220
END:VEVENT

BEGIN:VEVENT
SUMMARY:Sparta!
DESCRIPTION:Sparta! (300 days)
DTSTART:20270219
DTEND:20270220
END:VEVENT

BEGIN:VEVENT
SUMMARY:321 days
DESCRIPTION:321 days (321 days)
DTSTART:20270312
DTEND:20270313
END:VEVENT

BEGIN:VEVENT
SUMMARY:1 Earth year
DESCRIPTION:1 Earth year (365 days)
DTSTART:20270425
DTEND:20270426
END:VEVENT

BEGIN:VEVENT
SUMMARY:14th Fibonacci number days
DESCRIPTION:14th Fibonacci number days (377 days)
DTSTART:20270507
DTEND:20270508
END:VEVENT

BEGIN:VEVENT
SUMMARY:400 days
DESCRIPTION:400 days (400 days)
DTSTART:20270530
DTEND:20270531
END:VEVENT

BEGIN:VEVENT
SUMMARY:Anniversary Not Found
DESCRIPTION:Anniversary Not Found (404 days)
DTSTART:20270603
DTEND:20270604
END:VEVENT

BEGIN:VEVENT
SUMMARY:3rd even-perfect-number days
DESCRIPTION:3rd even-perfect-number days (496 days) (see http://en.wikipedia.org/wiki/Perfect_number)
DTSTART:20270903
DTEND:20270904
END:VEVENT

BEGIN:VEVENT
SUMMARY:500 days
DESCRIPTION:500 days (500 days)
DTSTART:20270907
DTEND:20270908
END:VEVENT

BEGIN:VEVENT
SUMMARY:Anniversary Forbidden
DESCRIPTION:Anniversary Forbidden (503 days)
DTSTART:20270910
DTEND:20270911
END:VEVENT

BEGIN:VEVENT
SUMMARY:1 Root-2 years
DESCRIPTION:1 Root-2 years (516 days) (see http://en.wikipedia.org/wiki/Square_root_of_2)
DTSTART:20270923
DTEND:20270924
END:VEVENT

BEGIN:VEVENT
SUMMARY:1 Golden ratio years
DESCRIPTION:1 Golden ratio years (591 days) (see http://en.wikipedia.org/wiki/Golden_ratio)
DTSTART:20271207
DTEND:20271208
END:VEVENT

BEGIN:VEVENT
SUMMARY:600 days
DESCRIPTION:600 days (600 days)
DTSTART:20271216
DTEND:20271217
END:VEVENT

BEGIN:VEVENT
SUMMARY:15th Fibonacci number days
DESCRIPTION:15th Fibonacci number days (610 days)
DTSTART:20271226
DTEND:20271227
END:VEVENT

BEGIN:VEVENT
SUMMARY:1 galactic tick
DESCRIPTION:1 galactic tick (634 days) (see https://en.wikipedia.org/wiki/Galactic_Tick_Day)
DTSTART:20280119
DTEND:20280120
END:VEVENT

BEGIN:VEVENT
SUMMARY:Lucifersary
DESCRIPTION:Lucifersary (666 days)
DTSTART:20280220
DTEND:20280221
END:VEVENT

BEGIN:VEVENT
SUMMARY:1 Mars year
DESCRIPTION:1 Mars year (687 days)
DTSTART:20280312
DTEND:20280313
END:VEVENT

BEGIN:VEVENT
SUMMARY:1,000,000 minutes
DESCRIPTION:1,000,000 minutes (694 days)
DTSTART:20280319
DTEND:20280320
END:VEVENT

BEGIN:VEVENT
SUMMARY:700 days
DESCRIPTION:700 days (700 days)
DTSTART:20280325
DTEND:20280326
END:VEVENT

BEGIN:VEVENT
SUMMARY:2 Earth years
DESCRIPTION:2 Earth years (731 days)
DTSTART:20280425
DTEND:20280426
END:VEVENT

BEGIN:VEVENT
SUMMARY:Feynman-point days
DESCRIPTION:Feynman-point days (762 days) (see http://en.wikipedia.org/wiki/Feynman_point)
DTSTART:20280526
DTEND:20280527
END:VEVENT

BEGIN:VEVENT
SUMMARY:800 days
DESCRIPTION:800 days (800 days)
DTSTART:20280703
DTEND:20280704
END:VEVENT

BEGIN:VEVENT
SUMMARY:123 weeks
DESCRIPTION:123 weeks (861 days)
DTSTART:20280902
DTEND:20280903
END:VEVENT

BEGIN:VEVENT
SUMMARY:10 Mercury years
DESCRIPTION:10 Mercury years (880 days)
DTSTART:20280921
DTEND:20280922
END:VEVENT

BEGIN:VEVENT
SUMMARY:900 days
DESCRIPTION:900 days (900 days)
DTSTART:20281011
DTEND:20281012
END:VEVENT

BEGIN:VEVENT
SUMMARY:16th Fibonacci number days
DESCRIPTION:16th Fibonacci number days (987 days)
DTSTART:20290106
DTEND:20290107
END:VEVENT

BEGIN:VEVENT
SUMMARY:1 e years
DESCRIPTION:1 e years (993 days) (see http://en.wikipedia.org/wiki/E_(mathematical_constant))
DTSTART:20290112
DTEND:20290113
END:VEVENT

BEGIN:VEVENT
SUMMARY:1,000 days
DESCRIPTION:1,000 days (1000 days)
DTSTART:20290119
DTEND:20290120
END:VEVENT

BEGIN:VEVENT
SUMMARY:2 Root-2 years
DESCRIPTION:2 Root-2 years (1033 days) (see http://en.wikipedia.org/wiki/Square_root_of_2)
DTSTART:20290221
DTEND:20290222
END:VEVENT

BEGIN:VEVENT
SUMMARY:3 Earth years
DESCRIPTION:3 Earth years (1096 days)
DTSTART:20290425
DTEND:20290426
END:VEVENT

BEGIN:VEVENT
SUMMARY:100 Mooches
DESCRIPTION:100 Mooches (1100 days) (see https://en.wikipedia.org/wiki/Anthony_Scaramucci)
DTSTART:20290429
DTEND:20290430
END:VEVENT

BEGIN:VEVENT
SUMMARY:1,111 days
DESCRIPTION:1,111 days (1111 days)
DTSTART:20290510
DTEND:20290511
END:VEVENT

BEGIN:VEVENT
SUMMARY:1 Pi years
DESCRIPTION:1 Pi years (1147 days) (see http://en.wikipedia.org/wiki/Pi)
DTSTART:20290615
DTEND:20290616
END:VEVENT

BEGIN:VEVENT
SUMMARY:2 Golden ratio years
DESCRIPTION:2 Golden ratio years (1182 days) (see http://en.wikipedia.org/wiki/Golden_ratio)
DTSTART:20290720
DTEND:20290721
END:VEVENT

BEGIN:VEVENT
SUMMARY:4th look-and-say number days
DESCRIPTION:4th look-and-say number days (1211 days) (see http://en.wikipedia.org/wiki/Look-and-say_sequence)
DTSTART:20290818
DTEND:20290819
END:VEVENT

BEGIN:VEVENT
SUMMARY:1,234 days
DESCRIPTION:1,234 days (1234 days)
DTSTART:20290910
DTEND:20290911
END:VEVENT

BEGIN:VEVENT
SUMMARY:2 galactic ticks
DESCRIPTION:2 galactic ticks (1267 days) (see https://en.wikipedia.org/wiki/Galactic_Tick_Day)
DTSTART:20291013
DTEND:20291014
END:VEVENT

BEGIN:VEVENT
SUMMARY:1337 days
DESCRIPTION:1337 days (1337 days) (see http://en.wikipedia.org/wiki/Leet)
DTSTART:20291222
DTEND:20291223
END:VEVENT

BEGIN:VEVENT
SUMMARY:50 lunar orbits
DESCRIPTION:50 lunar orbits (1365 days)
DTSTART:20300119
DTEND:20300120
END:VEVENT

BEGIN:VEVENT
SUMMARY:2 Mars years
DESCRIPTION:2 Mars years (1374 days)
DTSTART:20300128
DTEND:20300129
END:VEVENT

BEGIN:VEVENT
SUMMARY:2,000,000 minutes
DESCRIPTION:2,000,000 minutes (1389 days)
DTSTART:20300212
DTEND:20300213
END:VEVENT

BEGIN:VEVENT
SUMMARY:4 Earth years
DESCRIPTION:4 Earth years (1461 days)
DTSTART:20300425
DTEND:20300426
END:VEVENT

BEGIN:VEVENT
SUMMARY:3 Root-2 years
DESCRIPTION:3 Root-2 years (1549 days) (see http://en.wikipedia.org/wiki/Square_root_of_2)
DTSTART:20300722
DTEND:20300723
END:VEVENT

BEGIN:VEVENT
SUMMARY:17th Fibonacci number days
DESCRIPTION:17th Fibonacci number days (1597 days)
DTSTART:20300908
DTEND:20300909
END:VEVENT

BEGIN:VEVENT
SUMMARY:Hardy-Ramanujan-number days
DESCRIPTION:Hardy-Ramanujan-number days (1729 days) (see http://en.wikipedia.org/wiki/Srinivasa_Ramanujan)
DTSTART:20310118
DTEND:20310119
END:VEVENT

BEGIN:VEVENT
SUMMARY:20 Mercury years
DESCRIPTION:20 Mercury years (1759 days)
DTSTART:20310217
DTEND:20310218
END:VEVENT

BEGIN:VEVENT
SUMMARY:3 Golden ratio years
DESCRIPTION:3 Golden ratio years (1773 days) (see http://en.wikipedia.org/wiki/Golden_ratio)
DTSTART:20310303
DTEND:20310304
END:VEVENT

BEGIN:VEVENT
SUMMARY:5 Earth years
DESCRIPTION:5 Earth years (1826 days)
DTSTART:20310425
DTEND:20310426
END:VEVENT

BEGIN:VEVENT
SUMMARY:3 galactic ticks
DESCRIPTION:3 galactic ticks (1901 days) (see https://en.wikipedia.org/wiki/Galactic_Tick_Day)
DTSTART:20310709
DTEND:20310710
END:VEVENT

BEGIN:VEVENT
SUMMARY:1 Cobalt 60 half-lives
DESCRIPTION:1 Cobalt 60 half-lives (1925 days) (see http://en.wikipedia.org/wiki/Cobalt-60)
DTSTART:20310802
DTEND:20310803
END:VEVENT

BEGIN:VEVENT
SUMMARY:2 e years
DESCRIPTION:2 e years (1985 days) (see http://en.wikipedia.org/wiki/E_(mathematical_constant))
DTSTART:20311001
DTEND:20311002
END:VEVENT

BEGIN:VEVENT
SUMMARY:300th prime number (1987) days
DESCRIPTION:300th prime number (1987) days (1987 days)
DTSTART:20311003
DTEND:20311004
END:VEVENT

BEGIN:VEVENT
SUMMARY:2,000 days
DESCRIPTION:2,000 days (2000 days)
DTSTART:20311016
DTEND:20311017
END:VEVENT

BEGIN:VEVENT
SUMMARY:3 Mars years
DESCRIPTION:3 Mars years (2061 days)
DTSTART:20311216
DTEND:20311217
END:VEVENT

BEGIN:VEVENT
SUMMARY:4 Root-2 years
DESCRIPTION:4 Root-2 years (2066 days) (see http://en.wikipedia.org/wiki/Square_root_of_2)
DTSTART:20311221
DTEND:20311222
END:VEVENT

BEGIN:VEVENT
SUMMARY:3,000,000 minutes
DESCRIPTION:3,000,000 minutes (2083 days)
DTSTART:20320107
DTEND:20320108
END:VEVENT

BEGIN:VEVENT
SUMMARY:6 Earth years
DESCRIPTION:6 Earth years (2192 days)
DTSTART:20320425
DTEND:20320426
END:VEVENT

BEGIN:VEVENT
SUMMARY:2,222 days
DESCRIPTION:2,222 days (2222 days)
DTSTART:20320525
DTEND:20320526
END:VEVENT

BEGIN:VEVENT
SUMMARY:321 weeks
DESCRIPTION:321 weeks (2247 days)
DTSTART:20320619
DTEND:20320620
END:VEVENT

BEGIN:VEVENT
SUMMARY:10 Venus years
DESCRIPTION:10 Venus years (2247 days)
DTSTART:20320619
DTEND:20320620
END:VEVENT

BEGIN:VEVENT
SUMMARY:2 Pi years
DESCRIPTION:2 Pi years (2295 days) (see http://en.wikipedia.org/wiki/Pi)
DTSTART:20320806
DTEND:20320807
END:VEVENT

BEGIN:VEVENT
SUMMARY:5th Euclid-prime days
DESCRIPTION:5th Euclid-prime days (2311 days) (see http://en.wikipedia.org/wiki/List_of_primes)
DTSTART:20320822
DTEND:20320823
END:VEVENT

BEGIN:VEVENT
SUMMARY:4 Golden ratio years
DESCRIPTION:4 Golden ratio years (2364 days) (see http://en.wikipedia.org/wiki/Golden_ratio)
DTSTART:20321014
DTEND:20321015
END:VEVENT

BEGIN:VEVENT
SUMMARY:4 galactic ticks
DESCRIPTION:4 galactic ticks (2535 days) (see https://en.wikipedia.org/wiki/Galactic_Tick_Day)
DTSTART:20330403
DTEND:20330404
END:VEVENT

BEGIN:VEVENT
SUMMARY:7 Earth years
DESCRIPTION:7 Earth years (2557 days)
DTSTART:20330425
DTEND:20330426
END:VEVENT

BEGIN:VEVENT
SUMMARY:5 Root-2 years
DESCRIPTION:5 Root-2 years (2582 days) (see http://en.wikipedia.org/wiki/Square_root_of_2)
DTSTART:20330520
DTEND:20330521
END:VEVENT

BEGIN:VEVENT
SUMMARY:18th Fibonacci number days
DESCRIPTION:18th Fibonacci number days (2584 days)
DTSTART:20330522
DTEND:20330523
END:VEVENT

BEGIN:VEVENT
SUMMARY:30 Mercury years
DESCRIPTION:30 Mercury years (2639 days)
DTSTART:20330716
DTEND:20330717
END:VEVENT

BEGIN:VEVENT
SUMMARY:100 lunar orbits
DESCRIPTION:100 lunar orbits (2730 days)
DTSTART:20331015
DTEND:20331016
END:VEVENT

BEGIN:VEVENT
SUMMARY:4 Mars years
DESCRIPTION:4 Mars years (2748 days)
DTSTART:20331102
DTEND:20331103
END:VEVENT

BEGIN:VEVENT
SUMMARY:4,000,000 minutes
DESCRIPTION:4,000,000 minutes (2778 days)
DTSTART:20331202
DTEND:20331203
END:VEVENT

BEGIN:VEVENT
SUMMARY:The amount of time it takes a particle of light to cross one octillion hydrogen molecules
DESCRIPTION:The amount of time it takes a particle of light to cross one octillion hydrogen molecules (2859 days) (see https://www.livescience.com/zeptosecond-shortest-time-unit-measured.html)
DTSTART:20340221
DTEND:20340222
END:VEVENT

BEGIN:VEVENT
SUMMARY:8 Earth years
DESCRIPTION:8 Earth years (2922 days)
DTSTART:20340425
DTEND:20340426
END:VEVENT

BEGIN:VEVENT
SUMMARY:5 Golden ratio years
DESCRIPTION:5 Golden ratio years (2955 days) (see http://en.wikipedia.org/wiki/Golden_ratio)
DTSTART:20340528
DTEND:20340529
END:VEVENT

BEGIN:VEVENT
SUMMARY:3 e years
DESCRIPTION:3 e years (2978 days) (see http://en.wikipedia.org/wiki/E_(mathematical_constant))
DTSTART:20340620
DTEND:20340621
END:VEVENT

BEGIN:VEVENT
SUMMARY:3,000 days
DESCRIPTION:3,000 days (3000 days)
DTSTART:20340712
DTEND:20340713
END:VEVENT

BEGIN:VEVENT
SUMMARY:6 Root-2 years
DESCRIPTION:6 Root-2 years (3099 days) (see http://en.wikipedia.org/wiki/Square_root_of_2)
DTSTART:20341019
DTEND:20341020
END:VEVENT

BEGIN:VEVENT
SUMMARY:5 galactic ticks
DESCRIPTION:5 galactic ticks (3169 days) (see https://en.wikipedia.org/wiki/Galactic_Tick_Day)
DTSTART:20341228
DTEND:20341229
END:VEVENT

BEGIN:VEVENT
SUMMARY:500 Pluto days
DESCRIPTION:500 Pluto days (3193 days)
DTSTART:20350121
DTEND:20350122
END:VEVENT

BEGIN:VEVENT
SUMMARY:9 Earth years
DESCRIPTION:9 Earth years (3287 days)
DTSTART:20350425
DTEND:20350426
END:VEVENT

BEGIN:VEVENT
SUMMARY:3,333 days
DESCRIPTION:3,333 days (3333 days)
DTSTART:20350610
DTEND:20350611
END:VEVENT

BEGIN:VEVENT
SUMMARY:5 Mars years
DESCRIPTION:5 Mars years (3435 days)
DTSTART:20350920
DTEND:20350921
END:VEVENT

BEGIN:VEVENT
SUMMARY:3 Pi years
DESCRIPTION:3 Pi years (3442 days) (see http://en.wikipedia.org/wiki/Pi)
DTSTART:20350927
DTEND:20350928
END:VEVENT

BEGIN:VEVENT
SUMMARY:10 Draconic years
DESCRIPTION:10 Draconic years (3466 days) (see http://en.wikipedia.org/wiki/Anomalistic_year)
DTSTART:20351021
DTEND:20351022
END:VEVENT

BEGIN:VEVENT
SUMMARY:5,000,000 minutes
DESCRIPTION:5,000,000 minutes (3472 days)
DTSTART:20351027
DTEND:20351028
END:VEVENT

BEGIN:VEVENT
SUMMARY:40 Mercury years
DESCRIPTION:40 Mercury years (3518 days)
DTSTART:20351212
DTEND:20351213
END:VEVENT

BEGIN:VEVENT
SUMMARY:6 Golden ratio years
DESCRIPTION:6 Golden ratio years (3546 days) (see http://en.wikipedia.org/wiki/Golden_ratio)
DTSTART:20360109
DTEND:20360110
END:VEVENT

BEGIN:VEVENT
SUMMARY:1 reign of Richard the Lionheart
DESCRIPTION:1 reign of Richard the Lionheart (3561 days) (see https://en.wikipedia.org/wiki/Richard_I_of_England)
DTSTART:20360124
DTEND:20360125
END:VEVENT

BEGIN:VEVENT
SUMMARY:7 Root-2 years
DESCRIPTION:7 Root-2 years (3615 days) (see http://en.wikipedia.org/wiki/Square_root_of_2)
DTSTART:20360318
DTEND:20360319
END:VEVENT

BEGIN:VEVENT
SUMMARY:10 Earth years
DESCRIPTION:10 Earth years (3653 days)
DTSTART:20360425
DTEND:20360426
END:VEVENT

BEGIN:VEVENT
SUMMARY:6 galactic ticks
DESCRIPTION:6 galactic ticks (3802 days) (see https://en.wikipedia.org/wiki/Galactic_Tick_Day)
DTSTART:20360921
DTEND:20360922
END:VEVENT

BEGIN:VEVENT
SUMMARY:2 Cobalt 60 half-lives
DESCRIPTION:2 Cobalt 60 half-lives (3850 days) (see http://en.wikipedia.org/wiki/Cobalt-60)
DTSTART:20361108
DTEND:20361109
END:VEVENT

BEGIN:VEVENT
SUMMARY:4 e years
DESCRIPTION:4 e years (3971 days) (see http://en.wikipedia.org/wiki/E_(mathematical_constant))
DTSTART:20370309
DTEND:20370310
END:VEVENT

BEGIN:VEVENT
SUMMARY:4,000 days
DESCRIPTION:4,000 days (4000 days)
DTSTART:20370407
DTEND:20370408
END:VEVENT

BEGIN:VEVENT
SUMMARY:11 Earth years
DESCRIPTION:11 Earth years (4018 days)
DTSTART:20370425
DTEND:20370426
END:VEVENT

BEGIN:VEVENT
SUMMARY:Second-positive-integer-which-can-be-expressed-as-the-sum-of-two-positive-cubes-in-two-different-ways days
DESCRIPTION:Second-positive-integer-which-can-be-expressed-as-the-sum-of-two-positive-cubes-in-two-different-ways days (4104 days)
DTSTART:20370720
DTEND:20370721
END:VEVENT

BEGIN:VEVENT
SUMMARY:10 Full moon cycles
DESCRIPTION:10 Full moon cycles (4118 days) (see http://en.wikipedia.org/wiki/Full_moon_cycle)
DTSTART:20370803
DTEND:20370804
END:VEVENT

BEGIN:VEVENT
SUMMARY:6 Mars years
DESCRIPTION:6 Mars years (4122 days)
DTSTART:20370807
DTEND:20370808
END:VEVENT

BEGIN:VEVENT
SUMMARY:8 Root-2 years
DESCRIPTION:8 Root-2 years (4132 days) (see http://en.wikipedia.org/wiki/Square_root_of_2)
DTSTART:20370817
DTEND:20370818
END:VEVENT

BEGIN:VEVENT
SUMMARY:7 Golden ratio years
DESCRIPTION:7 Golden ratio years (4137 days) (see http://en.wikipedia.org/wiki/Golden_ratio)
DTSTART:20370822
DTEND:20370823
END:VEVENT

BEGIN:VEVENT
SUMMARY:6,000,000 minutes
DESCRIPTION:6,000,000 minutes (4167 days)
DTSTART:20370921
DTEND:20370922
END:VEVENT

BEGIN:VEVENT
SUMMARY:100,000 hours
DESCRIPTION:100,000 hours (4167 days)
DTSTART:20370921
DTEND:20370922
END:VEVENT

BEGIN:VEVENT
SUMMARY:19th Fibonacci number days
DESCRIPTION:19th Fibonacci number days (4181 days)
DTSTART:20371005
DTEND:20371006
END:VEVENT

END:VCALENDAR
