BEGIN:VCALENDAR
VERSION:2.0
X-WR-CALNAME:Mathematical Anniversaries
BEGIN:VEVENT
SUMMARY:One day
DESCRIPTION:One day (1 days)
DTSTART:20260427
DTEND:20260428
END:VEVENT

BEGIN:VEVENT
SUMMARY:1st even-perfect-number days
DESCRIPTION:1st even-perfect-number days (6 days) (see http://en.wikipedia.org/wiki/Perfect_number)
DTSTART:20260502
DTEND:20260503
END:VEVENT

BEGIN:VEVENT
SUMMARY:One week
DESCRIPTION:One week (7 days)
DTSTART:20260503
DTEND:20260504
END:VEVENT

BEGIN:VEVENT
SUMMARY:1 Mooch
DESCRIPTION:1 Mooch (11 days) (see https://en.wikipedia.org/wiki/Anthony_Scaramucci)
DTSTART:20260507
DTEND:20260508
END:VEVENT

BEGIN:VEVENT
SUMMARY:1 lunar orbit
DESCRIPTION:1 lunar orbit (27 days)
DTSTART:20260523
DTEND:20260524
END:VEVENT

BEGIN:VEVENT
SUMMARY:2nd even-perfect-number days
DESCRIPTION:2nd even-perfect-number days (28 days) (see http://en.wikipedia.org/wiki/Perfect_number)
DTSTART:20260524
DTEND:20260525
END:VEVENT

BEGIN:VEVENT
SUMMARY:One month
DESCRIPTION:One month (30 days)
DTSTART:20260526
DTEND:20260527
END:VEVENT

BEGIN:VEVENT
SUMMARY:Life-universe-and-everything
DESCRIPTION:Life-universe-and-everything (42 days)
DTSTART:20260607
DTEND:20260608
END:VEVENT

BEGIN:VEVENT
SUMMARY:10th Fibonacci number days
DESCRIPTION:10th Fibonacci number days (55 days)
DTSTART:20260620
DTEND:20260621
END:VEVENT

BEGIN:VEVENT
SUMMARY:Naughty-versary
DESCRIPTION:Naughty-versary (69 days)
DTSTART:20260704
DTEND:20260705
END:VEVENT

BEGIN:VEVENT
SUMMARY:Smallest-weird-number days
DESCRIPTION:Smallest-weird-number days (70 days) (see http://en.wikipedia.org/wiki/Weird_number)
DTSTART:20260705
DTEND:20260706
END:VEVENT

BEGIN:VEVENT
SUMMARY:11th Fibonacci number days
DESCRIPTION:11th Fibonacci number days (89 days)
DTSTART:20260724
DTEND:20260725
END:VEVENT

BEGIN:VEVENT
SUMMARY:100 days
DESCRIPTION:100 days (100 days)
DTSTART:20260804
DTEND:20260805
END:VEVENT

BEGIN:VEVENT
SUMMARY:123 days
DESCRIPTION:123 days (123 days)
DTSTART:20260827
DTEND:20260828
END:VEVENT

BEGIN:VEVENT
SUMMARY:12th Fibonacci number days
DESCRIPTION:12th Fibonacci number days (144 days)
DTSTART:20260917
DTEND:20260918
END:VEVENT

BEGIN:VEVENT
SUMMARY:200 days
DESCRIPTION:200 days (200 days)
DTSTART:20261112
DTEND:20261113
END:VEVENT

BEGIN:VEVENT
SUMMARY:13th Fibonacci number days
DESCRIPTION:13th Fibonacci number days (233 days)
DTSTART:20261215
DTEND:20261216
END:VEVENT

BEGIN:VEVENT
SUMMARY:10 lunar orbits
DESCRIPTION:10 lunar orbits (273 days)
DTSTART:20270124
DTEND:20270125
END:VEVENT

BEGIN:VEVENT
SUMMARY:300 days
DESCRIPTION:300 days (300 days)
DTSTART:20270220
DTEND:20270221
END:VEVENT

BEGIN:VEVENT
SUMMARY:Sparta!
DESCRIPTION:Sparta! (300 days)
DTSTART:20270220
DTEND:20270221
END:VEVENT

BEGIN:VEVENT
SUMMARY:321 days
DESCRIPTION:321 days (321 days)
DTSTART:20270313
DTEND:20270314
END:VEVENT

BEGIN:VEVENT
SUMMARY:1 Earth year
DESCRIPTION:1 Earth year (365 days)
DTSTART:20270426
DTEND:20270427
END:VEVENT

BEGIN:VEVENT
SUMMARY:14th Fibonacci number days
DESCRIPTION:14th Fibonacci number days (377 days)
DTSTART:20270508
DTEND:20270509
END:VEVENT

BEGIN:VEVENT
SUMMARY:400 days
DESCRIPTION:400 days (400 days)
DTSTART:20270531
DTEND:20270601
END:VEVENT

BEGIN:VEVENT
SUMMARY:Anniversary Not Found
DESCRIPTION:Anniversary Not Found (404 days)
DTSTART:20270604
DTEND:20270605
END:VEVENT

BEGIN:VEVENT
SUMMARY:3rd even-perfect-number days
DESCRIPTION:3rd even-perfect-number days (496 days) (see http://en.wikipedia.org/wiki/Perfect_number)
DTSTART:20270904
DTEND:20270905
END:VEVENT

BEGIN:VEVENT
SUMMARY:500 days
DESCRIPTION:500 days (500 days)
DTSTART:20270908
DTEND:20270909
END:VEVENT

BEGIN:VEVENT
SUMMARY:Anniversary Forbidden
DESCRIPTION:Anniversary Forbidden (503 days)
DTSTART:20270911
DTEND:20270912
END:VEVENT

BEGIN:VEVENT
SUMMARY:1 Root-2 years
DESCRIPTION:1 Root-2 years (516 days) (see http://en.wikipedia.org/wiki/Square_root_of_2)
DTSTART:20270924
DTEND:20270925
END:VEVENT

BEGIN:VEVENT
SUMMARY:1 Golden ratio years
DESCRIPTION:1 Golden ratio years (591 days) (see http://en.wikipedia.org/wiki/Golden_ratio)
DTSTART:20271208
DTEND:20271209
END:VEVENT

BEGIN:VEVENT
SUMMARY:600 days
DESCRIPTION:600 days (600 days)
DTSTART:20271217
DTEND:20271218
END:VEVENT

BEGIN:VEVENT
SUMMARY:15th Fibonacci number days
DESCRIPTION:15th Fibonacci number days (610 days)
DTSTART:20271227
DTEND:20271228
END:VEVENT

BEGIN:VEVENT
SUMMARY:1 galactic tick
DESCRIPTION:1 galactic tick (634 days) (see https://en.wikipedia.org/wiki/Galactic_Tick_Day)
DTSTART:20280120
DTEND:20280121
END:VEVENT

BEGIN:VEVENT
SUMMARY:Lucifersary
DESCRIPTION:Lucifersary (666 days)
DTSTART:20280221
DTEND:20280222
END:VEVENT

BEGIN:VEVENT
SUMMARY:1 Mars year
DESCRIPTION:1 Mars year (687 days)
DTSTART:20280313
DTEND:20280314
END:VEVENT

BEGIN:VEVENT
SUMMARY:1,000,000 minutes
DESCRIPTION:1,000,000 minutes (694 days)
DTSTART:20280320
DTEND:20280321
END:VEVENT

BEGIN:VEVENT
SUMMARY:700 days
DESCRIPTION:700 days (700 days)
DTSTART:20280326
DTEND:20280327
END:VEVENT

BEGIN:VEVENT
SUMMARY:2 Earth years
DESCRIPTION:2 Earth years (731 days)
DTSTART:20280426
DTEND:20280427
END:VEVENT

BEGIN:VEVENT
SUMMARY:Feynman-point days
DESCRIPTION:Feynman-point days (762 days) (see http://en.wikipedia.org/wiki/Feynman_point)
DTSTART:20280527
DTEND:20280528
END:VEVENT

BEGIN:VEVENT
SUMMARY:800 days
DESCRIPTION:800 days (800 days)
DTSTART:20280704
DTEND:20280705
END:VEVENT

BEGIN:VEVENT
SUMMARY:123 weeks
DESCRIPTION:123 weeks (861 days)
DTSTART:20280903
DTEND:20280904
END:VEVENT

BEGIN:VEVENT
SUMMARY:10 Mercury years
DESCRIPTION:10 Mercury years (880 days)
DTSTART:20280922
DTEND:20280923
END:VEVENT

BEGIN:VEVENT
SUMMARY:900 days
DESCRIPTION:900 days (900 days)
DTSTART:20281012
DTEND:20281013
END:VEVENT

BEGIN:VEVENT
SUMMARY:16th Fibonacci number days
DESCRIPTION:16th Fibonacci number days (987 days)
DTSTART:20290107
DTEND:20290108
END:VEVENT

BEGIN:VEVENT
SUMMARY:1 e years
DESCRIPTION:1 e years (993 days) (see http://en.wikipedia.org/wiki/E_(mathematical_constant))
DTSTART:20290113
DTEND:20290114
END:VEVENT

BEGIN:VEVENT
SUMMARY:1,000 days
DESCRIPTION:1,000 days (1000 days)
DTSTART:20290120
DTEND:20290121
END:VEVENT

BEGIN:VEVENT
SUMMARY:2 Root-2 years
DESCRIPTION:2 Root-2 years (1033 days) (see http://en.wikipedia.org/wiki/Square_root_of_2)
DTSTART:20290222
DTEND:20290223
END:VEVENT

BEGIN:VEVENT
SUMMARY:3 Earth years
DESCRIPTION:3 Earth years (1096 days)
DTSTART:20290426
DTEND:20290427
END:VEVENT

BEGIN:VEVENT
SUMMARY:100 Mooches
DESCRIPTION:100 Mooches (1100 days) (see https://en.wikipedia.org/wiki/Anthony_Scaramucci)
DTSTART:20290430
DTEND:20290501
END:VEVENT

BEGIN:VEVENT
SUMMARY:1,111 days
DESCRIPTION:1,111 days (1111 days)
DTSTART:20290511
DTEND:20290512
END:VEVENT

BEGIN:VEVENT
SUMMARY:1 Pi years
DESCRIPTION:1 Pi years (1147 days) (see http://en.wikipedia.org/wiki/Pi)
DTSTART:20290616
DTEND:20290617
END:VEVENT

BEGIN:VEVENT
SUMMARY:2 Golden ratio years
DESCRIPTION:2 Golden ratio years (1182 days) (see http://en.wikipedia.org/wiki/Golden_ratio)
DTSTART:20290721
DTEND:20290722
END:VEVENT

BEGIN:VEVENT
SUMMARY:4th look-and-say number days
DESCRIPTION:4th look-and-say number days (1211 days) (see http://en.wikipedia.org/wiki/Look-and-say_sequence)
DTSTART:20290819
DTEND:20290820
END:VEVENT

BEGIN:VEVENT
SUMMARY:1,234 days
DESCRIPTION:1,234 days (1234 days)
DTSTART:20290911
DTEND:20290912
END:VEVENT

BEGIN:VEVENT
SUMMARY:2 galactic ticks
DESCRIPTION:2 galactic ticks (1267 days) (see https://en.wikipedia.org/wiki/Galactic_Tick_Day)
DTSTART:20291014
DTEND:20291015
END:VEVENT

BEGIN:VEVENT
SUMMARY:1337 days
DESCRIPTION:1337 days (1337 days) (see http://en.wikipedia.org/wiki/Leet)
DTSTART:20291223
DTEND:20291224
END:VEVENT

BEGIN:VEVENT
SUMMARY:50 lunar orbits
DESCRIPTION:50 lunar orbits (1365 days)
DTSTART:20300120
DTEND:20300121
END:VEVENT

BEGIN:VEVENT
SUMMARY:2 Mars years
DESCRIPTION:2 Mars years (1374 days)
DTSTART:20300129
DTEND:20300130
END:VEVENT

BEGIN:VEVENT
SUMMARY:2,000,000 minutes
DESCRIPTION:2,000,000 minutes (1389 days)
DTSTART:20300213
DTEND:20300214
END:VEVENT

BEGIN:VEVENT
SUMMARY:4 Earth years
DESCRIPTION:4 Earth years (1461 days)
DTSTART:20300426
DTEND:20300427
END:VEVENT

BEGIN:VEVENT
SUMMARY:3 Root-2 years
DESCRIPTION:3 Root-2 years (1549 days) (see http://en.wikipedia.org/wiki/Square_root_of_2)
DTSTART:20300723
DTEND:20300724
END:VEVENT

BEGIN:VEVENT
SUMMARY:17th Fibonacci number days
DESCRIPTION:17th Fibonacci number days (1597 days)
DTSTART:20300909
DTEND:20300910
END:VEVENT

BEGIN:VEVENT
SUMMARY:Hardy-Ramanujan-number days
DESCRIPTION:Hardy-Ramanujan-number days (1729 days) (see http://en.wikipedia.org/wiki/Srinivasa_Ramanujan)
DTSTART:20310119
DTEND:20310120
END:VEVENT

BEGIN:VEVENT
SUMMARY:20 Mercury years
DESCRIPTION:20 Mercury years (1759 days)
DTSTART:20310218
DTEND:20310219
END:VEVENT

BEGIN:VEVENT
SUMMARY:3 Golden ratio years
DESCRIPTION:3 Golden ratio years (1773 days) (see http://en.wikipedia.org/wiki/Golden_ratio)
DTSTART:20310304
DTEND:20310305
END:VEVENT

BEGIN:VEVENT
SUMMARY:5 Earth years
DESCRIPTION:5 Earth years (1826 days)
DTSTART:20310426
DTEND:20310427
END:VEVENT

BEGIN:VEVENT
SUMMARY:3 galactic ticks
DESCRIPTION:3 galactic ticks (1901 days) (see https://en.wikipedia.org/wiki/Galactic_Tick_Day)
DTSTART:20310710
DTEND:20310711
END:VEVENT

BEGIN:VEVENT
SUMMARY:1 Cobalt 60 half-lives
DESCRIPTION:1 Cobalt 60 half-lives (1925 days) (see http://en.wikipedia.org/wiki/Cobalt-60)
DTSTART:20310803
DTEND:20310804
END:VEVENT

BEGIN:VEVENT
SUMMARY:2 e years
DESCRIPTION:2 e years (1985 days) (see http://en.wikipedia.org/wiki/E_(mathematical_constant))
DTSTART:20311002
DTEND:20311003
END:VEVENT

BEGIN:VEVENT
SUMMARY:300th prime number (1987) days
DESCRIPTION:300th prime number (1987) days (1987 days)
DTSTART:20311004
DTEND:20311005
END:VEVENT

BEGIN:VEVENT
SUMMARY:2,000 days
DESCRIPTION:2,000 days (2000 days)
DTSTART:20311017
DTEND:20311018
END:VEVENT

BEGIN:VEVENT
SUMMARY:3 Mars years
DESCRIPTION:3 Mars years (2061 days)
DTSTART:20311217
DTEND:20311218
END:VEVENT

BEGIN:VEVENT
SUMMARY:4 Root-2 years
DESCRIPTION:4 Root-2 years (2066 days) (see http://en.wikipedia.org/wiki/Square_root_of_2)
DTSTART:20311222
DTEND:20311223
END:VEVENT

BEGIN:VEVENT
SUMMARY:3,000,000 minutes
DESCRIPTION:3,000,000 minutes (2083 days)
DTSTART:20320108
DTEND:20320109
END:VEVENT

BEGIN:VEVENT
SUMMARY:6 Earth years
DESCRIPTION:6 Earth years (2192 days)
DTSTART:20320426
DTEND:20320427
END:VEVENT

BEGIN:VEVENT
SUMMARY:2,222 days
DESCRIPTION:2,222 days (2222 days)
DTSTART:20320526
DTEND:20320527
END:VEVENT

BEGIN:VEVENT
SUMMARY:321 weeks
DESCRIPTION:321 weeks (2247 days)
DTSTART:20320620
DTEND:20320621
END:VEVENT

BEGIN:VEVENT
SUMMARY:10 Venus years
DESCRIPTION:10 Venus years (2247 days)
DTSTART:20320620
DTEND:20320621
END:VEVENT

BEGIN:VEVENT
SUMMARY:2 Pi years
DESCRIPTION:2 Pi years (2295 days) (see http://en.wikipedia.org/wiki/Pi)
DTSTART:20320807
DTEND:20320808
END:VEVENT

BEGIN:VEVENT
SUMMARY:5th Euclid-prime days
DESCRIPTION:5th Euclid-prime days (2311 days) (see http://en.wikipedia.org/wiki/List_of_primes)
DTSTART:20320823
DTEND:20320824
END:VEVENT

BEGIN:VEVENT
SUMMARY:4 Golden ratio years
DESCRIPTION:4 Golden ratio years (2364 days) (see http://en.wikipedia.org/wiki/Golden_ratio)
DTSTART:20321015
DTEND:20321016
END:VEVENT

BEGIN:VEVENT
SUMMARY:4 galactic ticks
DESCRIPTION:4 galactic ticks (2535 days) (see https://en.wikipedia.org/wiki/Galactic_Tick_Day)
DTSTART:20330404
DTEND:20330405
END:VEVENT

BEGIN:VEVENT
SUMMARY:7 Earth years
DESCRIPTION:7 Earth years (2557 days)
DTSTART:20330426
DTEND:20330427
END:VEVENT

BEGIN:VEVENT
SUMMARY:5 Root-2 years
DESCRIPTION:5 Root-2 years (2582 days) (see http://en.wikipedia.org/wiki/Square_root_of_2)
DTSTART:20330521
DTEND:20330522
END:VEVENT

BEGIN:VEVENT
SUMMARY:18th Fibonacci number days
DESCRIPTION:18th Fibonacci number days (2584 days)
DTSTART:20330523
DTEND:20330524
END:VEVENT

BEGIN:VEVENT
SUMMARY:30 Mercury years
DESCRIPTION:30 Mercury years (2639 days)
DTSTART:20330717
DTEND:20330718
END:VEVENT

BEGIN:VEVENT
SUMMARY:100 lunar orbits
DESCRIPTION:100 lunar orbits (2730 days)
DTSTART:20331016
DTEND:20331017
END:VEVENT

BEGIN:VEVENT
SUMMARY:4 Mars years
DESCRIPTION:4 Mars years (2748 days)
DTSTART:20331103
DTEND:20331104
END:VEVENT

BEGIN:VEVENT
SUMMARY:4,000,000 minutes
DESCRIPTION:4,000,000 minutes (2778 days)
DTSTART:20331203
DTEND:20331204
END:VEVENT

BEGIN:VEVENT
SUMMARY:The amount of time it takes a particle of light to cross one octillion hydrogen molecules
DESCRIPTION:The amount of time it takes a particle of light to cross one octillion hydrogen molecules (2859 days) (see https://www.livescience.com/zeptosecond-shortest-time-unit-measured.html)
DTSTART:20340222
DTEND:20340223
END:VEVENT

BEGIN:VEVENT
SUMMARY:8 Earth years
DESCRIPTION:8 Earth years (2922 days)
DTSTART:20340426
DTEND:20340427
END:VEVENT

BEGIN:VEVENT
SUMMARY:5 Golden ratio years
DESCRIPTION:5 Golden ratio years (2955 days) (see http://en.wikipedia.org/wiki/Golden_ratio)
DTSTART:20340529
DTEND:20340530
END:VEVENT

BEGIN:VEVENT
SUMMARY:3 e years
DESCRIPTION:3 e years (2978 days) (see http://en.wikipedia.org/wiki/E_(mathematical_constant))
DTSTART:20340621
DTEND:20340622
END:VEVENT

BEGIN:VEVENT
SUMMARY:3,000 days
DESCRIPTION:3,000 days (3000 days)
DTSTART:20340713
DTEND:20340714
END:VEVENT

BEGIN:VEVENT
SUMMARY:6 Root-2 years
DESCRIPTION:6 Root-2 years (3099 days) (see http://en.wikipedia.org/wiki/Square_root_of_2)
DTSTART:20341020
DTEND:20341021
END:VEVENT

BEGIN:VEVENT
SUMMARY:5 galactic ticks
DESCRIPTION:5 galactic ticks (3169 days) (see https://en.wikipedia.org/wiki/Galactic_Tick_Day)
DTSTART:20341229
DTEND:20341230
END:VEVENT

BEGIN:VEVENT
SUMMARY:500 Pluto days
DESCRIPTION:500 Pluto days (3193 days)
DTSTART:20350122
DTEND:20350123
END:VEVENT

BEGIN:VEVENT
SUMMARY:9 Earth years
DESCRIPTION:9 Earth years (3287 days)
DTSTART:20350426
DTEND:20350427
END:VEVENT

BEGIN:VEVENT
SUMMARY:3,333 days
DESCRIPTION:3,333 days (3333 days)
DTSTART:20350611
DTEND:20350612
END:VEVENT

BEGIN:VEVENT
SUMMARY:5 Mars years
DESCRIPTION:5 Mars years (3435 days)
DTSTART:20350921
DTEND:20350922
END:VEVENT

BEGIN:VEVENT
SUMMARY:3 Pi years
DESCRIPTION:3 Pi years (3442 days) (see http://en.wikipedia.org/wiki/Pi)
DTSTART:20350928
DTEND:20350929
END:VEVENT

BEGIN:VEVENT
SUMMARY:10 Draconic years
DESCRIPTION:10 Draconic years (3466 days) (see http://en.wikipedia.org/wiki/Anomalistic_year)
DTSTART:20351022
DTEND:20351023
END:VEVENT

BEGIN:VEVENT
SUMMARY:5,000,000 minutes
DESCRIPTION:5,000,000 minutes (3472 days)
DTSTART:20351028
DTEND:20351029
END:VEVENT

BEGIN:VEVENT
SUMMARY:40 Mercury years
DESCRIPTION:40 Mercury years (3518 days)
DTSTART:20351213
DTEND:20351214
END:VEVENT

BEGIN:VEVENT
SUMMARY:6 Golden ratio years
DESCRIPTION:6 Golden ratio years (3546 days) (see http://en.wikipedia.org/wiki/Golden_ratio)
DTSTART:20360110
DTEND:20360111
END:VEVENT

BEGIN:VEVENT
SUMMARY:1 reign of Richard the Lionheart
DESCRIPTION:1 reign of Richard the Lionheart (3561 days) (see https://en.wikipedia.org/wiki/Richard_I_of_England)
DTSTART:20360125
DTEND:20360126
END:VEVENT

BEGIN:VEVENT
SUMMARY:7 Root-2 years
DESCRIPTION:7 Root-2 years (3615 days) (see http://en.wikipedia.org/wiki/Square_root_of_2)
DTSTART:20360319
DTEND:20360320
END:VEVENT

BEGIN:VEVENT
SUMMARY:10 Earth years
DESCRIPTION:10 Earth years (3653 days)
DTSTART:20360426
DTEND:20360427
END:VEVENT

BEGIN:VEVENT
SUMMARY:6 galactic ticks
DESCRIPTION:6 galactic ticks (3802 days) (see https://en.wikipedia.org/wiki/Galactic_Tick_Day)
DTSTART:20360922
DTEND:20360923
END:VEVENT

BEGIN:VEVENT
SUMMARY:2 Cobalt 60 half-lives
DESCRIPTION:2 Cobalt 60 half-lives (3850 days) (see http://en.wikipedia.org/wiki/Cobalt-60)
DTSTART:20361109
DTEND:20361110
END:VEVENT

BEGIN:VEVENT
SUMMARY:4 e years
DESCRIPTION:4 e years (3971 days) (see http://en.wikipedia.org/wiki/E_(mathematical_constant))
DTSTART:20370310
DTEND:20370311
END:VEVENT

BEGIN:VEVENT
SUMMARY:4,000 days
DESCRIPTION:4,000 days (4000 days)
DTSTART:20370408
DTEND:20370409
END:VEVENT

BEGIN:VEVENT
SUMMARY:11 Earth years
DESCRIPTION:11 Earth years (4018 days)
DTSTART:20370426
DTEND:20370427
END:VEVENT

BEGIN:VEVENT
SUMMARY:Second-positive-integer-which-can-be-expressed-as-the-sum-of-two-positive-cubes-in-two-different-ways days
DESCRIPTION:Second-positive-integer-which-can-be-expressed-as-the-sum-of-two-positive-cubes-in-two-different-ways days (4104 days)
DTSTART:20370721
DTEND:20370722
END:VEVENT

BEGIN:VEVENT
SUMMARY:10 Full moon cycles
DESCRIPTION:10 Full moon cycles (4118 days) (see http://en.wikipedia.org/wiki/Full_moon_cycle)
DTSTART:20370804
DTEND:20370805
END:VEVENT

BEGIN:VEVENT
SUMMARY:6 Mars years
DESCRIPTION:6 Mars years (4122 days)
DTSTART:20370808
DTEND:20370809
END:VEVENT

BEGIN:VEVENT
SUMMARY:8 Root-2 years
DESCRIPTION:8 Root-2 years (4132 days) (see http://en.wikipedia.org/wiki/Square_root_of_2)
DTSTART:20370818
DTEND:20370819
END:VEVENT

BEGIN:VEVENT
SUMMARY:7 Golden ratio years
DESCRIPTION:7 Golden ratio years (4137 days) (see http://en.wikipedia.org/wiki/Golden_ratio)
DTSTART:20370823
DTEND:20370824
END:VEVENT

BEGIN:VEVENT
SUMMARY:6,000,000 minutes
DESCRIPTION:6,000,000 minutes (4167 days)
DTSTART:20370922
DTEND:20370923
END:VEVENT

BEGIN:VEVENT
SUMMARY:100,000 hours
DESCRIPTION:100,000 hours (4167 days)
DTSTART:20370922
DTEND:20370923
END:VEVENT

BEGIN:VEVENT
SUMMARY:19th Fibonacci number days
DESCRIPTION:19th Fibonacci number days (4181 days)
DTSTART:20371006
DTEND:20371007
END:VEVENT

END:VCALENDAR
